BEGIN:VCALENDAR
VERSION:2.0
PRODID:-//La Coalicion - ECPv6.15.20//NONSGML v1.0//EN
CALSCALE:GREGORIAN
METHOD:PUBLISH
X-WR-CALNAME:La Coalicion
X-ORIGINAL-URL:https://hispaniclatinogala.org
X-WR-CALDESC:Events for La Coalicion
REFRESH-INTERVAL;VALUE=DURATION:PT1H
X-Robots-Tag:noindex
X-PUBLISHED-TTL:PT1H
BEGIN:VTIMEZONE
TZID:America/New_York
BEGIN:DAYLIGHT
TZOFFSETFROM:-0500
TZOFFSETTO:-0400
TZNAME:EDT
DTSTART:20230312T070000
END:DAYLIGHT
BEGIN:STANDARD
TZOFFSETFROM:-0400
TZOFFSETTO:-0500
TZNAME:EST
DTSTART:20231105T060000
END:STANDARD
BEGIN:DAYLIGHT
TZOFFSETFROM:-0500
TZOFFSETTO:-0400
TZNAME:EDT
DTSTART:20240310T070000
END:DAYLIGHT
BEGIN:STANDARD
TZOFFSETFROM:-0400
TZOFFSETTO:-0500
TZNAME:EST
DTSTART:20241103T060000
END:STANDARD
BEGIN:DAYLIGHT
TZOFFSETFROM:-0500
TZOFFSETTO:-0400
TZNAME:EDT
DTSTART:20250309T070000
END:DAYLIGHT
BEGIN:STANDARD
TZOFFSETFROM:-0400
TZOFFSETTO:-0500
TZNAME:EST
DTSTART:20251102T060000
END:STANDARD
END:VTIMEZONE
BEGIN:VEVENT
DTSTART;TZID=America/New_York:20240221T180000
DTEND;TZID=America/New_York:20240221T190000
DTSTAMP:20260421T045634
CREATED:20240110T201519Z
LAST-MODIFIED:20240111T162811Z
UID:10000026-1708538400-1708542000@hispaniclatinogala.org
SUMMARY:Fortalece tu Valor
DESCRIPTION:Adolescentes:\n– Gana horas de voluntariado\n– Entrada VIP a la Cumbre de jóvenes en Carowinds\n– Obtén la oportunidad de ganar la Beca “Above and Beyond theCall of Duty” (ABCD)\n– Trae a tus padres para las clases de padres\n\n\nPadres:\n\n\n– Fortalece relaciones familiares\n– Experiencia de aprendizaje en conjunto con tu adolescente\n– ¡Acceso a recursos valiosos!\n\n\nNo se pierdan esta gran oportunidad\, para más información contacta yec@mylac.org
URL:https://hispaniclatinogala.org/evento/fortalece-tu-valor-2/
LOCATION:Oficinas de LAC\, 4938 Central Ave. Suite 101\, Charlotte\, NC\, 28205\, Estados Unidos
CATEGORIES:Educacional
ATTACH;FMTTYPE=image/jpeg:https://hispaniclatinogala.org/wp-content/uploads/2024/01/WEB.jpg
ORGANIZER;CN="YEC":MAILTO:yec@mylac.org
END:VEVENT
END:VCALENDAR