BEGIN:VCALENDAR
VERSION:2.0
PRODID:-//La Coalicion - ECPv6.15.20//NONSGML v1.0//EN
CALSCALE:GREGORIAN
METHOD:PUBLISH
X-WR-CALNAME:La Coalicion
X-ORIGINAL-URL:https://hispaniclatinogala.org
X-WR-CALDESC:Events for La Coalicion
REFRESH-INTERVAL;VALUE=DURATION:PT1H
X-Robots-Tag:noindex
X-PUBLISHED-TTL:PT1H
BEGIN:VTIMEZONE
TZID:America/New_York
BEGIN:DAYLIGHT
TZOFFSETFROM:-0500
TZOFFSETTO:-0400
TZNAME:EDT
DTSTART:20230312T070000
END:DAYLIGHT
BEGIN:STANDARD
TZOFFSETFROM:-0400
TZOFFSETTO:-0500
TZNAME:EST
DTSTART:20231105T060000
END:STANDARD
BEGIN:DAYLIGHT
TZOFFSETFROM:-0500
TZOFFSETTO:-0400
TZNAME:EDT
DTSTART:20240310T070000
END:DAYLIGHT
BEGIN:STANDARD
TZOFFSETFROM:-0400
TZOFFSETTO:-0500
TZNAME:EST
DTSTART:20241103T060000
END:STANDARD
BEGIN:DAYLIGHT
TZOFFSETFROM:-0500
TZOFFSETTO:-0400
TZNAME:EDT
DTSTART:20250309T070000
END:DAYLIGHT
BEGIN:STANDARD
TZOFFSETFROM:-0400
TZOFFSETTO:-0500
TZNAME:EST
DTSTART:20251102T060000
END:STANDARD
END:VTIMEZONE
BEGIN:VEVENT
DTSTART;TZID=America/New_York:20240412T190000
DTEND;TZID=America/New_York:20240412T210000
DTSTAMP:20260421T045616
CREATED:20240408T180737Z
LAST-MODIFIED:20240408T180737Z
UID:10000365-1712948400-1712955600@hispaniclatinogala.org
SUMMARY:Charlotte Latino Film Festival: La extorsión (The Extortion)
DESCRIPTION:Date and time\n\n\n \n\nFriday\, April 12 · 7 – 9pm EDT\n\n\n\n\n\n\n\n\n\n\n\n\n\n\nLocation\n\n \n\nThe Independent Picture House \n4237 Raleigh Street Charlotte\, NC 28213 United States \nShow map\n\n\n\n\n\n\n\n\n\n\n\nRefund Policy\n\nContact the organizer to request a refund.\nEventbrite’s fee is nonrefundable.\n\n\n\n\n\n\n\nAbout this event\n\n\n2 hours\n\n\n\n\n\n\nLa extorsión (The Extortion)\nDirected by Martino Zaidelis\n(Argentina\, 2023\, 105 min.\, in Spanish with English subtitles\, ages 16+) \nAlejandro\, an airline pilot\, is hiding a secret. When Intelligence Service agents discover it\, they blackmail him. Alejandro will be submerged in a universe of intrigue and corruption\, placing him and his loved ones in danger\, while he attempts to escape alive\, no matter the price. \nAlejandro\, un veterano piloto comercial\, se ve obligado a colaborar con los servicios de inteligencia de su país para evitar ser sancionado por una grave falta que cometió en el trabajo. Rápidamente se sumerge en un submundo de intrigas y extorsiones que pondrá en riesgo su vida\, temiendo que deberá pagar un precio muy alto para escapar de él.
URL:https://hispaniclatinogala.org/evento/charlotte-latino-film-festival-la-extorsion-the-extortion/
ATTACH;FMTTYPE=image/jpeg:https://hispaniclatinogala.org/wp-content/uploads/2024/04/https___cdn.evbuc_.com_images_716138309_303575152286_1_original.jpeg
END:VEVENT
END:VCALENDAR