BEGIN:VCALENDAR
VERSION:2.0
PRODID:-//La Coalicion - ECPv6.15.20//NONSGML v1.0//EN
CALSCALE:GREGORIAN
METHOD:PUBLISH
X-ORIGINAL-URL:https://hispaniclatinogala.org
X-WR-CALDESC:Events for La Coalicion
REFRESH-INTERVAL;VALUE=DURATION:PT1H
X-Robots-Tag:noindex
X-PUBLISHED-TTL:PT1H
BEGIN:VTIMEZONE
TZID:America/New_York
BEGIN:DAYLIGHT
TZOFFSETFROM:-0500
TZOFFSETTO:-0400
TZNAME:EDT
DTSTART:20230312T070000
END:DAYLIGHT
BEGIN:STANDARD
TZOFFSETFROM:-0400
TZOFFSETTO:-0500
TZNAME:EST
DTSTART:20231105T060000
END:STANDARD
BEGIN:DAYLIGHT
TZOFFSETFROM:-0500
TZOFFSETTO:-0400
TZNAME:EDT
DTSTART:20240310T070000
END:DAYLIGHT
BEGIN:STANDARD
TZOFFSETFROM:-0400
TZOFFSETTO:-0500
TZNAME:EST
DTSTART:20241103T060000
END:STANDARD
BEGIN:DAYLIGHT
TZOFFSETFROM:-0500
TZOFFSETTO:-0400
TZNAME:EDT
DTSTART:20250309T070000
END:DAYLIGHT
BEGIN:STANDARD
TZOFFSETFROM:-0400
TZOFFSETTO:-0500
TZNAME:EST
DTSTART:20251102T060000
END:STANDARD
END:VTIMEZONE
BEGIN:VEVENT
DTSTART;TZID=America/New_York:20240413T093000
DTEND;TZID=America/New_York:20240413T233000
DTSTAMP:20260421T045831
CREATED:20240408T182558Z
LAST-MODIFIED:20240408T182558Z
UID:10000368-1713000600-1713051000@hispaniclatinogala.org
SUMMARY:Charlotte Latino Film Festival Closing Night Party with Bravo Pueblo
DESCRIPTION:Date and time\n\n\n \n\nSaturday\, April 13 · 9:30 – 11:30pm EDT\n\n\n\n\n\n\n\n\n\n\n\n\n\n\nLocation\n\n \n\nDivine Barrel Brewing \n3701 North Davidson Street #Suite #203 Charlotte\, NC 28205 United States \nShow map\n\n\n\n\n\n\n\n\n\n\n\nAbout this event\n\n\n2 hours\n\n\n\n\n\n\nJoin us as we wrap up the inaugural edition of the Charlotte Latino Film Festival in style\, with live music by local band Bravo Pueblo\, Cine Casual-inspired beer brewed by Divine Barrel and fried goods by Manolo’s Bakery. \nSpecial thanks to Divine Barrel Brewing for hosting us! \n\nAbout Bravo Pueblo\nExperimental electro-pop band based in Charlotte\, NC with roots in Venezuela and Puerto Rico. Assembled around an assortment of electronic instruments\, siblings\, Liza and Claudio Ortiz along with Lisandro Herrera combine an array of reimagined sounds and influences\, creating futuristic\, yet somehow nostalgic\, tropical music.
URL:https://hispaniclatinogala.org/evento/charlotte-latino-film-festival-closing-night-party-with-bravo-pueblo/
ATTACH;FMTTYPE=image/jpeg:https://hispaniclatinogala.org/wp-content/uploads/2024/04/https___cdn.evbuc_.com_images_718066229_303575152286_1_original.jpeg
END:VEVENT
BEGIN:VEVENT
DTSTART;TZID=America/New_York:20240413T163000
DTEND;TZID=America/New_York:20240413T180000
DTSTAMP:20260421T045831
CREATED:20240408T181632Z
LAST-MODIFIED:20240408T181729Z
UID:10000366-1713025800-1713031200@hispaniclatinogala.org
SUMMARY:Charlotte Latino Film Festival: La Suprema
DESCRIPTION:Date and time\n\n\n\n  \n\nSaturday\, April 13 · 4:30 – 6pm EDT\n\n\n\n\n\n\n\n\n\n\n\n\n\n\nLocation\n\n\n  \n\nThe Independent Picture House \n4237 Raleigh Street Charlotte\, NC 28213 United States \nShow map\n\n\n\n\n\n\n\n\n\n\n\nRefund Policy\n\nContact the organizer to request a refund.\nEventbrite’s fee is nonrefundable.\n\n\n\n\n\n\n\nAbout this event\n\n\n1 hour 30 minutes\n\n\n\n\n\n\nLa Suprema\nDirected by Felipe Holguín Caro\n(Colombia\, 2023\, 83 min.\, in Spanish with English subtitles\, ages 13+) \nIn a remote Colombian village without electricity\, a strong-willed teenager convinces her whole town to find a way of watching her estranged uncle compete in a world championship boxing match. \nEn una remota aldea sin electricidad\, una adolescente convence a todo el pueblo para encontrar la forma de ver a su tío\, del que está distanciada\, competir en un combate del campeonato mundial de boxeo.
URL:https://hispaniclatinogala.org/evento/charlotte-latino-film-festival-la-suprema/
ATTACH;FMTTYPE=image/jpeg:https://hispaniclatinogala.org/wp-content/uploads/2024/04/https___cdn.evbuc_.com_images_716144409_303575152286_1_original-1.jpeg
END:VEVENT
BEGIN:VEVENT
DTSTART;TZID=America/New_York:20240413T170000
DTEND;TZID=America/New_York:20240413T200000
DTSTAMP:20260421T045831
CREATED:20240402T170716Z
LAST-MODIFIED:20240402T170716Z
UID:10000359-1713027600-1713038400@hispaniclatinogala.org
SUMMARY:Train the Trainers: CULTURAL ORGANIZING 101
DESCRIPTION:Join us for a FREE Highlander Center training &e learn about: \n\nFrameworks of power\nThe importance of cultural organizing for community organizing\nPlans outside traditional facilitation models
URL:https://hispaniclatinogala.org/evento/train-the-trainers-cultural-organizing-101/
LOCATION:Oficinas de LAC\, 4938 Central Ave. Suite 101\, Charlotte\, NC\, 28205\, Estados Unidos
CATEGORIES:Evento Cultural
ATTACH;FMTTYPE=image/jpeg:https://hispaniclatinogala.org/wp-content/uploads/2024/04/YEC-CO101-Training-ENG_anonymous.jpg
ORGANIZER;CN="Latin American Coalition":MAILTO:info@mylac.org
END:VEVENT
BEGIN:VEVENT
DTSTART;TZID=America/New_York:20240413T183000
DTEND;TZID=America/New_York:20240413T213000
DTSTAMP:20260421T045831
CREATED:20240408T182337Z
LAST-MODIFIED:20240408T182337Z
UID:10000367-1713033000-1713043800@hispaniclatinogala.org
SUMMARY:Charlotte Latino Film Festival: Érase una vez en el Caribe + Special Guest
DESCRIPTION:Date and time\n\n\n \n\nSaturday\, April 13 · 6:30 – 9:30pm EDT\n\n\n\n\n\n\n\n\n\n\n\n\n\n\nLocation\n\n \n\nThe Independent Picture House \n4237 Raleigh Street Charlotte\, NC 28213 United States \nShow map\n\n\n\n\n\n\n\n\n\n\n\nRefund Policy\n\nContact the organizer to request a refund.\nEventbrite’s fee is nonrefundable.\n\n\n\n\n\n\n\nAbout this event\n\n\n3 hours\n\n\n\n\n\n\nÉrase una vez en el Caribe (Once Upon a Time in the Caribbean)\nDirected by Ray Figueroa\n(Puerto Rico\, 2023\, 135 min.\, in Spanish with English subtitles\, ages 16+)\n*Actor Modesto Lacén will be in attendance* \nJoin us for our Closing Night Party after the film at Divine Barrel Brewing! \nJuan Encarnación was once the most feared man; a man of few words and great actions\, most of them with machetes. Everything changed when he met the love of his life\, Pura. She converted him into a quiet family man. His idyllic life is destroyed when\, bewitched by her beauty\, capricious Walker Jr. kidnaps Pura. Carrying his baby daughter on his back and with machete in hand\, Encarnación will do whatever it takes to rescue her. \nJuan Encarnación era antes el hombre más temido; de pocas palabras y grandes acciones\, la mayoría de ellas a machetazos. Todo cambió cuando conoció al amor de su vida\, Pura. Ella lo convirtió en un hombre tranquilo de familia. Su vida idílica es destruida cuando\, embrujado por su belleza\, el caprichoso Walker Jr. secuestra a Pura. Cargando a su hija bebé en su espalda y con machete en mano\, Encarnación hará lo que sea por recuperarla.
URL:https://hispaniclatinogala.org/evento/charlotte-latino-film-festival-erase-una-vez-en-el-caribe-special-guest/
ATTACH;FMTTYPE=image/jpeg:https://hispaniclatinogala.org/wp-content/uploads/2024/04/https___cdn.evbuc_.com_images_716149009_303575152286_1_original.jpeg
END:VEVENT
END:VCALENDAR