BEGIN:VCALENDAR
VERSION:2.0
PRODID:-//La Coalicion - ECPv6.15.20//NONSGML v1.0//EN
CALSCALE:GREGORIAN
METHOD:PUBLISH
X-WR-CALNAME:La Coalicion
X-ORIGINAL-URL:https://hispaniclatinogala.org
X-WR-CALDESC:Events for La Coalicion
REFRESH-INTERVAL;VALUE=DURATION:PT1H
X-Robots-Tag:noindex
X-PUBLISHED-TTL:PT1H
BEGIN:VTIMEZONE
TZID:America/New_York
BEGIN:DAYLIGHT
TZOFFSETFROM:-0500
TZOFFSETTO:-0400
TZNAME:EDT
DTSTART:20230312T070000
END:DAYLIGHT
BEGIN:STANDARD
TZOFFSETFROM:-0400
TZOFFSETTO:-0500
TZNAME:EST
DTSTART:20231105T060000
END:STANDARD
BEGIN:DAYLIGHT
TZOFFSETFROM:-0500
TZOFFSETTO:-0400
TZNAME:EDT
DTSTART:20240310T070000
END:DAYLIGHT
BEGIN:STANDARD
TZOFFSETFROM:-0400
TZOFFSETTO:-0500
TZNAME:EST
DTSTART:20241103T060000
END:STANDARD
BEGIN:DAYLIGHT
TZOFFSETFROM:-0500
TZOFFSETTO:-0400
TZNAME:EDT
DTSTART:20250309T070000
END:DAYLIGHT
BEGIN:STANDARD
TZOFFSETFROM:-0400
TZOFFSETTO:-0500
TZNAME:EST
DTSTART:20251102T060000
END:STANDARD
END:VTIMEZONE
BEGIN:VEVENT
DTSTART;TZID=America/New_York:20240502T180000
DTEND;TZID=America/New_York:20240502T200000
DTSTAMP:20260421T044103
CREATED:20240501T152036Z
LAST-MODIFIED:20240501T152036Z
UID:10000377-1714672800-1714680000@hispaniclatinogala.org
SUMMARY:Evaluaciones gratuitas para el cáncer de mama Proyecto Rosa
DESCRIPTION:¿No tiene seguro médico? ¿Es una mujer de 40 años o mayor? \nTome ventaja de esta gran oportunidad. Regístrese para las clases de cáncer de mama para obtener su mamograma gratuito en la Coalición Latinoamericana el 16 de mayo de 2024. \nPara calificar usted tiene que: \n\nTener 40 años o mas.\nSer residente de el condado de Mecklenburg.\nTener un doctor primario. (Si no tiene un médico\, le podemos ayudar a conseguir uno)\nNo tener seguro médico.\nNo estar embarazada o dando lactancia materna.\nNo tener problemas médicos en sus senos como bultos\, deformidades\, dolor\, etc.\nPara registrarse para las clases comuníquese con: \nDiego Torres – 704-941-2544 \nIvette Ceballos – 803-833-2293
URL:https://hispaniclatinogala.org/evento/evaluaciones-gratuitas-para-el-cancer-de-mama-proyecto-rosa/
LOCATION:Oficinas de LAC\, 4938 Central Ave. Suite 101\, Charlotte\, NC\, 28205\, Estados Unidos
CATEGORIES:Evento Cultural
ATTACH;FMTTYPE=image/jpeg:https://hispaniclatinogala.org/wp-content/uploads/2024/05/Project-Pink-LAC-5-01-24_anonymous-e1714576819821.jpg
ORGANIZER;CN="Latin American Coalition":MAILTO:info@mylac.org
END:VEVENT
END:VCALENDAR