BEGIN:VCALENDAR
VERSION:2.0
PRODID:-//La Coalicion - ECPv6.15.20//NONSGML v1.0//EN
CALSCALE:GREGORIAN
METHOD:PUBLISH
X-WR-CALNAME:La Coalicion
X-ORIGINAL-URL:https://hispaniclatinogala.org
X-WR-CALDESC:Events for La Coalicion
REFRESH-INTERVAL;VALUE=DURATION:PT1H
X-Robots-Tag:noindex
X-PUBLISHED-TTL:PT1H
BEGIN:VTIMEZONE
TZID:America/New_York
BEGIN:DAYLIGHT
TZOFFSETFROM:-0500
TZOFFSETTO:-0400
TZNAME:EDT
DTSTART:20230312T070000
END:DAYLIGHT
BEGIN:STANDARD
TZOFFSETFROM:-0400
TZOFFSETTO:-0500
TZNAME:EST
DTSTART:20231105T060000
END:STANDARD
BEGIN:DAYLIGHT
TZOFFSETFROM:-0500
TZOFFSETTO:-0400
TZNAME:EDT
DTSTART:20240310T070000
END:DAYLIGHT
BEGIN:STANDARD
TZOFFSETFROM:-0400
TZOFFSETTO:-0500
TZNAME:EST
DTSTART:20241103T060000
END:STANDARD
BEGIN:DAYLIGHT
TZOFFSETFROM:-0500
TZOFFSETTO:-0400
TZNAME:EDT
DTSTART:20250309T070000
END:DAYLIGHT
BEGIN:STANDARD
TZOFFSETFROM:-0400
TZOFFSETTO:-0500
TZNAME:EST
DTSTART:20251102T060000
END:STANDARD
END:VTIMEZONE
BEGIN:VEVENT
DTSTART;TZID=America/New_York:20240702T100000
DTEND;TZID=America/New_York:20240702T140000
DTSTAMP:20260421T074220
CREATED:20240604T142421Z
LAST-MODIFIED:20240604T142422Z
UID:10000974-1719914400-1719928800@hispaniclatinogala.org
SUMMARY:PIONERAS EN STEM CAMPAMENTO DE VERANO ¡GRATIS!
DESCRIPTION:¡ÚNETE A PIONERAS EN STEM!   \n¡Atención padres! Pioneras en STEM ayudan a estudiantes latinas a explorar la Ciencia\, Tecnología\, Ingeniería y Matemáticas (STEM). \nNuestro programa ofrece un currículo educativo\, mentoría y apoyo para estar listas para la universidad y una carrera en STEM.   \nAtención individual \nExploración de carreras \nEmocionantes salidas educativas emocionantes! Para estudiantes femeninas de secundaria (9º-12º y recién graduadas). \nContactos: yec@mylac.org\n Llama: (704)531-3849
URL:https://hispaniclatinogala.org/evento/pioneras-en-stem-campamento-de-verano-gratis/2024-07-02/
LOCATION:Oficinas de LAC\, 4938 Central Ave. Suite 101\, Charlotte\, NC\, 28205\, Estados Unidos
CATEGORIES:Clase,Educacional
ATTACH;FMTTYPE=image/jpeg:https://hispaniclatinogala.org/wp-content/uploads/2024/06/IG1_anonymous.jpg
ORGANIZER;CN="YEC":MAILTO:yec@mylac.org
END:VEVENT
BEGIN:VEVENT
DTSTART;TZID=America/New_York:20240702T130000
DTEND;TZID=America/New_York:20240702T150000
DTSTAMP:20260421T074220
CREATED:20240514T155738Z
LAST-MODIFIED:20250327T184339Z
UID:10000391-1719925200-1719932400@hispaniclatinogala.org
SUMMARY:"Taller de Fuerza Laboral
DESCRIPTION:APRENDERÁS SOBRE: \nDerechos laborales \nHerramientas para la búsqueda de trabajo \nBolsa de trabajo actualizada \nCreación de conexiones \nFecha:  Todos los martes de 1:00 PM – 3:00 PM \nSala: Centro Cultural Olma Echeverri
URL:https://hispaniclatinogala.org/evento/taller-de-fuerza-laboral/2024-07-02/
LOCATION:Oficinas de LAC\, 4938 Central Ave. Suite 101\, Charlotte\, NC\, 28205\, Estados Unidos
CATEGORIES:Educacional
ATTACH;FMTTYPE=image/jpeg:https://hispaniclatinogala.org/wp-content/uploads/2024/05/Image-3-e1736958480553.jpg
ORGANIZER;CN="EWC":MAILTO:info@mylac.org
END:VEVENT
END:VCALENDAR