BEGIN:VCALENDAR
VERSION:2.0
PRODID:-//La Coalicion - ECPv6.15.20//NONSGML v1.0//EN
CALSCALE:GREGORIAN
METHOD:PUBLISH
X-ORIGINAL-URL:https://hispaniclatinogala.org
X-WR-CALDESC:Events for La Coalicion
REFRESH-INTERVAL;VALUE=DURATION:PT1H
X-Robots-Tag:noindex
X-PUBLISHED-TTL:PT1H
BEGIN:VTIMEZONE
TZID:America/New_York
BEGIN:DAYLIGHT
TZOFFSETFROM:-0500
TZOFFSETTO:-0400
TZNAME:EDT
DTSTART:20230312T070000
END:DAYLIGHT
BEGIN:STANDARD
TZOFFSETFROM:-0400
TZOFFSETTO:-0500
TZNAME:EST
DTSTART:20231105T060000
END:STANDARD
BEGIN:DAYLIGHT
TZOFFSETFROM:-0500
TZOFFSETTO:-0400
TZNAME:EDT
DTSTART:20240310T070000
END:DAYLIGHT
BEGIN:STANDARD
TZOFFSETFROM:-0400
TZOFFSETTO:-0500
TZNAME:EST
DTSTART:20241103T060000
END:STANDARD
BEGIN:DAYLIGHT
TZOFFSETFROM:-0500
TZOFFSETTO:-0400
TZNAME:EDT
DTSTART:20250309T070000
END:DAYLIGHT
BEGIN:STANDARD
TZOFFSETFROM:-0400
TZOFFSETTO:-0500
TZNAME:EST
DTSTART:20251102T060000
END:STANDARD
END:VTIMEZONE
BEGIN:VEVENT
DTSTART;TZID=America/New_York:20240828T180000
DTEND;TZID=America/New_York:20240828T190000
DTSTAMP:20260421T190250
CREATED:20240826T214455Z
LAST-MODIFIED:20240826T214455Z
UID:10001609-1724868000-1724871600@hispaniclatinogala.org
SUMMARY:CHARLAS INFORMATIVAS PARA EL PAROLE IN PLACE Manteniendo Familias Unidas
DESCRIPTION:REQUISITOS \n\nEstar casado (a) con un\nCiudadano de Estados Unidos el 17 de Junio del 2024 o antes.\nHaber estado presente de manera continua en Estados Unidos desde el 17 de junio del 2014\, hasta la fecha de presentación de su petición.\nEntró a Estados Unidos sin inspección.\nNo tener antescedentes penales que lo descalifiquen.
URL:https://hispaniclatinogala.org/evento/charlas-informativas-para-el-parole-in-place-manteniendo-familias-unidas/
LOCATION:Oficinas de LAC\, 4938 Central Ave. Suite 101\, Charlotte\, NC\, 28205\, Estados Unidos
ATTACH;FMTTYPE=image/jpeg:https://hispaniclatinogala.org/wp-content/uploads/2024/08/Page-2-PIP-ILC-8.26.24-Instagram-Facebook_anonymous.jpg
END:VEVENT
END:VCALENDAR