BEGIN:VCALENDAR
VERSION:2.0
PRODID:-//La Coalicion - ECPv6.15.20//NONSGML v1.0//EN
CALSCALE:GREGORIAN
METHOD:PUBLISH
X-ORIGINAL-URL:https://hispaniclatinogala.org
X-WR-CALDESC:Events for La Coalicion
REFRESH-INTERVAL;VALUE=DURATION:PT1H
X-Robots-Tag:noindex
X-PUBLISHED-TTL:PT1H
BEGIN:VTIMEZONE
TZID:America/New_York
BEGIN:DAYLIGHT
TZOFFSETFROM:-0500
TZOFFSETTO:-0400
TZNAME:EDT
DTSTART:20230312T070000
END:DAYLIGHT
BEGIN:STANDARD
TZOFFSETFROM:-0400
TZOFFSETTO:-0500
TZNAME:EST
DTSTART:20231105T060000
END:STANDARD
BEGIN:DAYLIGHT
TZOFFSETFROM:-0500
TZOFFSETTO:-0400
TZNAME:EDT
DTSTART:20240310T070000
END:DAYLIGHT
BEGIN:STANDARD
TZOFFSETFROM:-0400
TZOFFSETTO:-0500
TZNAME:EST
DTSTART:20241103T060000
END:STANDARD
BEGIN:DAYLIGHT
TZOFFSETFROM:-0500
TZOFFSETTO:-0400
TZNAME:EDT
DTSTART:20250309T070000
END:DAYLIGHT
BEGIN:STANDARD
TZOFFSETFROM:-0400
TZOFFSETTO:-0500
TZNAME:EST
DTSTART:20251102T060000
END:STANDARD
END:VTIMEZONE
BEGIN:VEVENT
DTSTART;TZID=America/New_York:20240902T180000
DTEND;TZID=America/New_York:20240902T200000
DTSTAMP:20260421T202452
CREATED:20240903T161958Z
LAST-MODIFIED:20240903T161958Z
UID:10001611-1725300000-1725307200@hispaniclatinogala.org
SUMMARY:TE INVITAN A LA SERIE DE TALLERES SOBRE FINANZAS PERSONALES (Presupuesto y herramientas)
DESCRIPTION:Aprende temas de importancia para tu bienestar financiero con esta serie de talleres liderados por consejeros certificados en las instalaciones de La Coalición. Estos son los temas y modos de asistencia: \nCrédito en EEUU (virtual\, 8/29) \nPresupuesto y herramientas (persona\, 9/2) \nCumpliendo sueños (virtual\, 9/5) \nReducción de deudas (persona\, 9/10) \nWays to contact the organizers: Email: ewcassociate2@mylac.org Phone number: (704) 941-2557 (Text)
URL:https://hispaniclatinogala.org/evento/te-invitan-a-la-serie-de-talleres-sobre-finanzas-personales-presupuesto-y-herramientas/
LOCATION:Oficinas de LAC\, 4938 Central Ave. Suite 101\, Charlotte\, NC\, 28205\, Estados Unidos
CATEGORIES:Educacional
ATTACH;FMTTYPE=image/jpeg:https://hispaniclatinogala.org/wp-content/uploads/2024/09/Add-a-subheading-2_anonymous.jpg
ORGANIZER;CN="EWC":MAILTO:info@mylac.org
END:VEVENT
END:VCALENDAR