BEGIN:VCALENDAR
VERSION:2.0
PRODID:-//La Coalicion - ECPv6.15.20//NONSGML v1.0//EN
CALSCALE:GREGORIAN
METHOD:PUBLISH
X-ORIGINAL-URL:https://hispaniclatinogala.org
X-WR-CALDESC:Events for La Coalicion
REFRESH-INTERVAL;VALUE=DURATION:PT1H
X-Robots-Tag:noindex
X-PUBLISHED-TTL:PT1H
BEGIN:VTIMEZONE
TZID:America/New_York
BEGIN:DAYLIGHT
TZOFFSETFROM:-0500
TZOFFSETTO:-0400
TZNAME:EDT
DTSTART:20230312T070000
END:DAYLIGHT
BEGIN:STANDARD
TZOFFSETFROM:-0400
TZOFFSETTO:-0500
TZNAME:EST
DTSTART:20231105T060000
END:STANDARD
BEGIN:DAYLIGHT
TZOFFSETFROM:-0500
TZOFFSETTO:-0400
TZNAME:EDT
DTSTART:20240310T070000
END:DAYLIGHT
BEGIN:STANDARD
TZOFFSETFROM:-0400
TZOFFSETTO:-0500
TZNAME:EST
DTSTART:20241103T060000
END:STANDARD
BEGIN:DAYLIGHT
TZOFFSETFROM:-0500
TZOFFSETTO:-0400
TZNAME:EDT
DTSTART:20250309T070000
END:DAYLIGHT
BEGIN:STANDARD
TZOFFSETFROM:-0400
TZOFFSETTO:-0500
TZNAME:EST
DTSTART:20251102T060000
END:STANDARD
END:VTIMEZONE
BEGIN:VEVENT
DTSTART;VALUE=DATE:20240909
DTEND;VALUE=DATE:20240910
DTSTAMP:20260421T202453
CREATED:20240823T025539Z
LAST-MODIFIED:20240823T025714Z
UID:10001608-1725840000-1725926399@hispaniclatinogala.org
SUMMARY:Join our FALL INTERNSHIPS
DESCRIPTION:🌟 Join Our Internship Program! 🌟 \nLooking for hands-on experience and growth? Our semester-long internships offer you the chance to work on impactful projects and collaborate with a passionate team. Open to undergrad and grad students\, as well as recent grads! \nProgram Dates: September 9th – December 13th\nCommitment: 12 hours/week minimum\nBenefits: Networking\, workshops\, cultural celebrations\, community events (Unpaid)\nApplication Deadline: Sunday\, September 1st at 11:59 PM ET. Explore more about the Latin American Coalition in our brochures.
URL:https://hispaniclatinogala.org/evento/join-our-fall-internships/
ATTACH;FMTTYPE=image/jpeg:https://hispaniclatinogala.org/wp-content/uploads/2024/08/YEC-FALL-Interns_anonymous.jpg
ORGANIZER;CN="YEC":MAILTO:yec@mylac.org
END:VEVENT
END:VCALENDAR