BEGIN:VCALENDAR
VERSION:2.0
PRODID:-//La Coalicion - ECPv6.15.20//NONSGML v1.0//EN
CALSCALE:GREGORIAN
METHOD:PUBLISH
X-WR-CALNAME:La Coalicion
X-ORIGINAL-URL:https://hispaniclatinogala.org
X-WR-CALDESC:Events for La Coalicion
REFRESH-INTERVAL;VALUE=DURATION:PT1H
X-Robots-Tag:noindex
X-PUBLISHED-TTL:PT1H
BEGIN:VTIMEZONE
TZID:America/New_York
BEGIN:DAYLIGHT
TZOFFSETFROM:-0500
TZOFFSETTO:-0400
TZNAME:EDT
DTSTART:20230312T070000
END:DAYLIGHT
BEGIN:STANDARD
TZOFFSETFROM:-0400
TZOFFSETTO:-0500
TZNAME:EST
DTSTART:20231105T060000
END:STANDARD
BEGIN:DAYLIGHT
TZOFFSETFROM:-0500
TZOFFSETTO:-0400
TZNAME:EDT
DTSTART:20240310T070000
END:DAYLIGHT
BEGIN:STANDARD
TZOFFSETFROM:-0400
TZOFFSETTO:-0500
TZNAME:EST
DTSTART:20241103T060000
END:STANDARD
BEGIN:DAYLIGHT
TZOFFSETFROM:-0500
TZOFFSETTO:-0400
TZNAME:EDT
DTSTART:20250309T070000
END:DAYLIGHT
BEGIN:STANDARD
TZOFFSETFROM:-0400
TZOFFSETTO:-0500
TZNAME:EST
DTSTART:20251102T060000
END:STANDARD
END:VTIMEZONE
BEGIN:VEVENT
DTSTART;TZID=America/New_York:20240928T010000
DTEND;TZID=America/New_York:20240928T130000
DTSTAMP:20260421T190121
CREATED:20240812T195356Z
LAST-MODIFIED:20240812T195356Z
UID:10001600-1727485200-1727528400@hispaniclatinogala.org
SUMMARY:2024 CHARLOTTE MONARCH CELEBRATION
DESCRIPTION:Join us for a celebration of monarch butterflies and other pollinators. Learn how we can protect their habitats. \nACTIVITIES: \n\nCrafts\nSeed giveaways and raffle\nMonarch march around the pollinator garden\nPhoto booth with wings and other props\nMonarch discussions\nKing of Pops (for purchase)\nSaturday\, September 28th \n10 AM to 1 PM \nReedy Creek Nature Preserve \n2986 Rocky River Road\, Charlotte 28215
URL:https://hispaniclatinogala.org/evento/2024-charlotte-monarch-celebration/
ATTACH;FMTTYPE=image/jpeg:https://hispaniclatinogala.org/wp-content/uploads/2024/08/FINAL_2024MonarchFestival2024.jpg
END:VEVENT
BEGIN:VEVENT
DTSTART;TZID=America/New_York:20240928T183000
DTEND;TZID=America/New_York:20240928T193000
DTSTAMP:20260421T190121
CREATED:20240913T225630Z
LAST-MODIFIED:20240913T225630Z
UID:10001616-1727548200-1727551800@hispaniclatinogala.org
SUMMARY:THE PEDRITO MARTINEZ
DESCRIPTION:Nos complace informarte que nuestro aliado\, JazzArts Charlotte \, ofrece un 20% de descuento  exclusivo para el próximo concierto del grupo Pedrito Martinez  en The JAZZ ROOM\, como parte de la celebración del Mes de la Herencia Hispana . \n\n📅 27 y 28 de septiembre\n 📍 Booth Playhouse\, 130 N Tryon St\, Charlotte\, NC 28202\n 🎟️ Usa el código: HHM20  al hacer tu compra para obtener el descuento especial para miembros de la Coalición Latinoamericana. \n\nCompra tus entradas aquí : Compra entradas con descuento . \n\n¡No te pierdas la oportunidad de disfrutar de una increíble noche de Jazz Latino con uno de los percusionistas más talentosos del mundo\, Pedrito Martínez ! Haz clic en el enlace para obtener tus boletos antes de que se agoten.\nPara más detalles del evento\, visita: Evento Jazz Room – Grupo Pedrito Martínez . \n\n¡Nos vemos en el concierto!
URL:https://hispaniclatinogala.org/evento/the-pedrito-martinez/2024-09-28/
CATEGORIES:Evento Cultural
ATTACH;FMTTYPE=image/jpeg:https://hispaniclatinogala.org/wp-content/uploads/2024/09/PedritoMartinezOfficial-1200x630-1-1.jpg
END:VEVENT
END:VCALENDAR