BEGIN:VCALENDAR
VERSION:2.0
PRODID:-//La Coalicion - ECPv6.15.20//NONSGML v1.0//EN
CALSCALE:GREGORIAN
METHOD:PUBLISH
X-WR-CALNAME:La Coalicion
X-ORIGINAL-URL:https://hispaniclatinogala.org
X-WR-CALDESC:Events for La Coalicion
REFRESH-INTERVAL;VALUE=DURATION:PT1H
X-Robots-Tag:noindex
X-PUBLISHED-TTL:PT1H
BEGIN:VTIMEZONE
TZID:America/New_York
BEGIN:DAYLIGHT
TZOFFSETFROM:-0500
TZOFFSETTO:-0400
TZNAME:EDT
DTSTART:20230312T070000
END:DAYLIGHT
BEGIN:STANDARD
TZOFFSETFROM:-0400
TZOFFSETTO:-0500
TZNAME:EST
DTSTART:20231105T060000
END:STANDARD
BEGIN:DAYLIGHT
TZOFFSETFROM:-0500
TZOFFSETTO:-0400
TZNAME:EDT
DTSTART:20240310T070000
END:DAYLIGHT
BEGIN:STANDARD
TZOFFSETFROM:-0400
TZOFFSETTO:-0500
TZNAME:EST
DTSTART:20241103T060000
END:STANDARD
BEGIN:DAYLIGHT
TZOFFSETFROM:-0500
TZOFFSETTO:-0400
TZNAME:EDT
DTSTART:20250309T070000
END:DAYLIGHT
BEGIN:STANDARD
TZOFFSETFROM:-0400
TZOFFSETTO:-0500
TZNAME:EST
DTSTART:20251102T060000
END:STANDARD
END:VTIMEZONE
BEGIN:VEVENT
DTSTART;TZID=America/New_York:20241018T180000
DTEND;TZID=America/New_York:20241018T193000
DTSTAMP:20260421T215033
CREATED:20241017T154544Z
LAST-MODIFIED:20241017T154545Z
UID:10001618-1729274400-1729279800@hispaniclatinogala.org
SUMMARY:SESIÓN INFORMATIVA VIRTUAL / OPORTUNIDAD DE CARRERA EN EL AREA DE SALUD
DESCRIPTION:SESIÓN INFORMATIVA VIRTUAL \nOPORTUNIDAD DE INICIAR UNA CARRERA: \n•HEALTHCARE SPANISH MEDICAL INTERPRETER CERTIFICATION \n*MEDICAL ASSISTANT CERTIFICATION \nTemas a tratar: \n\nImportancia del Intérprete y Asistente Médico en la comunidad hispana\nRequisitos y habilidades necesarias\nProceso de certificación y licencias\nCómo iniciar una carrera en el área de salud
URL:https://hispaniclatinogala.org/evento/sesion-informativa-virtual-oportunidad-de-carrera-en-el-area-de-salud/
CATEGORIES:Educacional
ATTACH;FMTTYPE=image/jpeg:https://hispaniclatinogala.org/wp-content/uploads/2024/10/EWC-SesionInformativa-Medical-Interprete10_18_anonymous.jpg
ORGANIZER;CN="Latin American Coalition":MAILTO:info@mylac.org
END:VEVENT
END:VCALENDAR