BEGIN:VCALENDAR
VERSION:2.0
PRODID:-//La Coalicion - ECPv6.15.20//NONSGML v1.0//EN
CALSCALE:GREGORIAN
METHOD:PUBLISH
X-WR-CALNAME:La Coalicion
X-ORIGINAL-URL:https://hispaniclatinogala.org
X-WR-CALDESC:Events for La Coalicion
REFRESH-INTERVAL;VALUE=DURATION:PT1H
X-Robots-Tag:noindex
X-PUBLISHED-TTL:PT1H
BEGIN:VTIMEZONE
TZID:America/New_York
BEGIN:DAYLIGHT
TZOFFSETFROM:-0500
TZOFFSETTO:-0400
TZNAME:EDT
DTSTART:20240310T070000
END:DAYLIGHT
BEGIN:STANDARD
TZOFFSETFROM:-0400
TZOFFSETTO:-0500
TZNAME:EST
DTSTART:20241103T060000
END:STANDARD
BEGIN:DAYLIGHT
TZOFFSETFROM:-0500
TZOFFSETTO:-0400
TZNAME:EDT
DTSTART:20250309T070000
END:DAYLIGHT
BEGIN:STANDARD
TZOFFSETFROM:-0400
TZOFFSETTO:-0500
TZNAME:EST
DTSTART:20251102T060000
END:STANDARD
BEGIN:DAYLIGHT
TZOFFSETFROM:-0500
TZOFFSETTO:-0400
TZNAME:EDT
DTSTART:20260308T070000
END:DAYLIGHT
BEGIN:STANDARD
TZOFFSETFROM:-0400
TZOFFSETTO:-0500
TZNAME:EST
DTSTART:20261101T060000
END:STANDARD
END:VTIMEZONE
BEGIN:VEVENT
DTSTART;TZID=America/New_York:20250207T100000
DTEND;TZID=America/New_York:20250207T120000
DTSTAMP:20260422T040807
CREATED:20250117T221956Z
LAST-MODIFIED:20250117T221956Z
UID:10004342-1738922400-1738929600@hispaniclatinogala.org
SUMMARY:Curso Intensivo de Computación y Desarrollo practico del Inglés!
DESCRIPTION:Habilidades Básicas e Intermedias de Computación. \nDesarrollo del Inglés en el Ámbito Laboral: Aprende con estrategias teatrales para mejorar tu expresión oral en inglés. \nCrea tu Resumen Curricular Profesional. \nCupos Limitados. \nGuardería Disponible para el cuidado de niños. \nFechas: Del 23 de enero al 14 de febrero. \nDías: Jueves y Viernes (2 veces por semana). \nHorario: 10:00 am a 12:00 pm. \nUbicación: Coalición Latinoamericana\, 4938 Central Ave.\, Charlotte\, NC 28205. \nAl finalizar el curso\, recibirás una LAPTOP gratis. \nREGÍSTRATE CON EL LINK . \nhttps://forms.office.com/r/dTNU03epxj 📞 Más información: 980-320-3741. \n¡Mejora tus habilidades y asegura tu futuro! 🚀✨
URL:https://hispaniclatinogala.org/evento/curso-intensivo-de-computacion-y-desarrollo-practico-del-ingles-2/2025-02-07/
LOCATION:Oficinas de LAC\, 4938 Central Ave. Suite 101\, Charlotte\, NC\, 28205\, Estados Unidos
CATEGORIES:Educacional
ATTACH;FMTTYPE=image/jpeg:https://hispaniclatinogala.org/wp-content/uploads/2025/01/Computacion-EWC-01-23facebook_anonymous.jpg
ORGANIZER;CN="Latin American Coalition":MAILTO:info@mylac.org
END:VEVENT
END:VCALENDAR