BEGIN:VCALENDAR
VERSION:2.0
PRODID:-//La Coalicion - ECPv6.15.20//NONSGML v1.0//EN
CALSCALE:GREGORIAN
METHOD:PUBLISH
X-WR-CALNAME:La Coalicion
X-ORIGINAL-URL:https://hispaniclatinogala.org
X-WR-CALDESC:Events for La Coalicion
REFRESH-INTERVAL;VALUE=DURATION:PT1H
X-Robots-Tag:noindex
X-PUBLISHED-TTL:PT1H
BEGIN:VTIMEZONE
TZID:America/New_York
BEGIN:DAYLIGHT
TZOFFSETFROM:-0500
TZOFFSETTO:-0400
TZNAME:EDT
DTSTART:20240310T070000
END:DAYLIGHT
BEGIN:STANDARD
TZOFFSETFROM:-0400
TZOFFSETTO:-0500
TZNAME:EST
DTSTART:20241103T060000
END:STANDARD
BEGIN:DAYLIGHT
TZOFFSETFROM:-0500
TZOFFSETTO:-0400
TZNAME:EDT
DTSTART:20250309T070000
END:DAYLIGHT
BEGIN:STANDARD
TZOFFSETFROM:-0400
TZOFFSETTO:-0500
TZNAME:EST
DTSTART:20251102T060000
END:STANDARD
BEGIN:DAYLIGHT
TZOFFSETFROM:-0500
TZOFFSETTO:-0400
TZNAME:EDT
DTSTART:20260308T070000
END:DAYLIGHT
BEGIN:STANDARD
TZOFFSETFROM:-0400
TZOFFSETTO:-0500
TZNAME:EST
DTSTART:20261101T060000
END:STANDARD
END:VTIMEZONE
BEGIN:VEVENT
DTSTART;TZID=America/New_York:20250303T090000
DTEND;TZID=America/New_York:20250303T123000
DTSTAMP:20260422T040900
CREATED:20250221T224945Z
LAST-MODIFIED:20250327T184321Z
UID:10004413-1740992400-1741005000@hispaniclatinogala.org
SUMMARY:¿NECESITAS AYUDA CON INMIGRACIÓN?
DESCRIPTION:¿Tienes una pregunta de inmigración? ¿Conoces tus derechos y sabes cómo usarlos? \nEstas y otras preguntas te ayudamos a resolver. \nLugar: La Coalición Latinoamericana\, 4938 Central Ave. Charlotte\, NC 28205\nPreguntas de Inmigración: Lunes\, marzo 3 y 10 a las 9 AM\, se atiende en orden de llegada\, cupos limitados. \nLa primera consulta es un beneficio de la membresía de La Coalición. $40 Sesiones de Conozca sus derechos y úselos. \nInformación para crear un plan familiar: Lunes\, marzo 3 y 10 a las 9:15 AM\, Jueves\, marzo 13 y 27 a las 12:30AM.\nOpción virtual en jueves\, marzo 13 a las 6:30 PM enlace del registro: https://forms.office.com/r/kSrMKt4q7Q
URL:https://hispaniclatinogala.org/evento/necesitas-ayuda-con-inmigracion/2025-03-03/
ATTACH;FMTTYPE=image/jpeg:https://hispaniclatinogala.org/wp-content/uploads/2025/02/ILCmarch-services-FB-IG-page-1_anonymous.jpg
END:VEVENT
BEGIN:VEVENT
DTSTART;TZID=America/New_York:20250303T100000
DTEND;TZID=America/New_York:20250303T150000
DTSTAMP:20260422T040900
CREATED:20250225T153918Z
LAST-MODIFIED:20250327T184333Z
UID:10004415-1740996000-1741014000@hispaniclatinogala.org
SUMMARY:¡Atención residentes! 📢 ¿Quieres saber si calificas para la ciudadanía de Estados Unidos?
DESCRIPTION:Participa en nuestra jornada del 22 de marzo para llenar tu aplicación. \nPASO 1 – Ven a La Coalición\, el lunes 3 o 10 de marzo de 10:00am a 3:00pm\, a una *consulta inicial para evaluar si calificas. \nPASO 2 – Jornada para llenar tu aplicación\, 22 de marzo\, 9am-3pm *La consulta Inicial es un beneficio de la membresía de La Coalición – Valor $40 *El costo del servicio será entre $250 y $350\, ajustándose según el nivel de ingresos. \nEl costo con USCIS varía. \nLugar: La Coalición Latinoamericana\, 4938 Central Ave. Charlotte\, NC 28205 \nTeléfono: 704-243-8011 \nCENTRO LEGAL DE INMIGRACIÓN – La Coalicion ¡Te esperamos! 😊
URL:https://hispaniclatinogala.org/evento/atencion-residentes-%f0%9f%93%a2-quieres-saber-si-calificas-para-la-ciudadania-de-estados-unidos/2025-03-03/
LOCATION:Oficinas de LAC\, 4938 Central Ave. Suite 101\, Charlotte\, NC\, 28205\, Estados Unidos
ATTACH;FMTTYPE=image/jpeg:https://hispaniclatinogala.org/wp-content/uploads/2025/02/1_anonymous-4.jpg
ORGANIZER;CN="Latin American Coalition":MAILTO:info@mylac.org
END:VEVENT
END:VCALENDAR