BEGIN:VCALENDAR
VERSION:2.0
PRODID:-//La Coalicion - ECPv6.15.20//NONSGML v1.0//EN
CALSCALE:GREGORIAN
METHOD:PUBLISH
X-ORIGINAL-URL:https://hispaniclatinogala.org
X-WR-CALDESC:Events for La Coalicion
REFRESH-INTERVAL;VALUE=DURATION:PT1H
X-Robots-Tag:noindex
X-PUBLISHED-TTL:PT1H
BEGIN:VTIMEZONE
TZID:America/New_York
BEGIN:DAYLIGHT
TZOFFSETFROM:-0500
TZOFFSETTO:-0400
TZNAME:EDT
DTSTART:20240310T070000
END:DAYLIGHT
BEGIN:STANDARD
TZOFFSETFROM:-0400
TZOFFSETTO:-0500
TZNAME:EST
DTSTART:20241103T060000
END:STANDARD
BEGIN:DAYLIGHT
TZOFFSETFROM:-0500
TZOFFSETTO:-0400
TZNAME:EDT
DTSTART:20250309T070000
END:DAYLIGHT
BEGIN:STANDARD
TZOFFSETFROM:-0400
TZOFFSETTO:-0500
TZNAME:EST
DTSTART:20251102T060000
END:STANDARD
BEGIN:DAYLIGHT
TZOFFSETFROM:-0500
TZOFFSETTO:-0400
TZNAME:EDT
DTSTART:20260308T070000
END:DAYLIGHT
BEGIN:STANDARD
TZOFFSETFROM:-0400
TZOFFSETTO:-0500
TZNAME:EST
DTSTART:20261101T060000
END:STANDARD
END:VTIMEZONE
BEGIN:VEVENT
DTSTART;TZID=America/New_York:20250307T100000
DTEND;TZID=America/New_York:20250307T160000
DTSTAMP:20260422T041232
CREATED:20250227T211816Z
LAST-MODIFIED:20250327T184356Z
UID:10004419-1741341600-1741363200@hispaniclatinogala.org
SUMMARY:CONSTRUYENDO FAMILIAS PREPARADAS\, RESILIENTES Y EMPODERADAS
DESCRIPTION:Este evento es una oportunidad única para recibir apoyo en la preparación de documentos importantes para hacer frente a diversas emergencias\, además de acceder a recursos valiosos para tu familia. \nFecha: 7 de marzo\nHorario: 10 am\, 1 pm\, y 4 pm\nUbicación: Coalición Latinoamericana. Centro Cultural Olma Echeverri. 4938 Central Ave.\, Charlotte\, NC 28205 \nServicios Ofrecidos: \n\nSolicita el pasaporte para menores de 16 años (ciudadanos estadounidenses).\nSolicita la partida de nacimiento de menores (ciudadanos estadounidenses).\nObtén identificación comunitaria.\nInfórmate sobre los requisitos para el taller dePoderes de Representación.\nPlática “Usa tus Derechos” en caso de interacción con ICE.\nAprende a crear un plan de emergencia.\nPrepárate para el taller de Poderes de Representación.\n\n¡La inscripción es obligatoria! Por el momento\, la invitación está abierta exclusivamente a miembros de la Coalición Latinoamericana (LAC).\nLink de registo: https://forms.office.com/r/Ft66weWFgx
URL:https://hispaniclatinogala.org/evento/construyendo-familias-preparadas-resilientes-y-empoderadas/
CATEGORIES:Educacional
ATTACH;FMTTYPE=image/jpeg:https://hispaniclatinogala.org/wp-content/uploads/2025/02/Construyendo-familias-preparadas.03.07.2025._anonymous.jpg
END:VEVENT
END:VCALENDAR