BEGIN:VCALENDAR
VERSION:2.0
PRODID:-//La Coalicion - ECPv6.15.20//NONSGML v1.0//EN
CALSCALE:GREGORIAN
METHOD:PUBLISH
X-WR-CALNAME:La Coalicion
X-ORIGINAL-URL:https://hispaniclatinogala.org
X-WR-CALDESC:Events for La Coalicion
REFRESH-INTERVAL;VALUE=DURATION:PT1H
X-Robots-Tag:noindex
X-PUBLISHED-TTL:PT1H
BEGIN:VTIMEZONE
TZID:America/New_York
BEGIN:DAYLIGHT
TZOFFSETFROM:-0500
TZOFFSETTO:-0400
TZNAME:EDT
DTSTART:20240310T070000
END:DAYLIGHT
BEGIN:STANDARD
TZOFFSETFROM:-0400
TZOFFSETTO:-0500
TZNAME:EST
DTSTART:20241103T060000
END:STANDARD
BEGIN:DAYLIGHT
TZOFFSETFROM:-0500
TZOFFSETTO:-0400
TZNAME:EDT
DTSTART:20250309T070000
END:DAYLIGHT
BEGIN:STANDARD
TZOFFSETFROM:-0400
TZOFFSETTO:-0500
TZNAME:EST
DTSTART:20251102T060000
END:STANDARD
BEGIN:DAYLIGHT
TZOFFSETFROM:-0500
TZOFFSETTO:-0400
TZNAME:EDT
DTSTART:20260308T070000
END:DAYLIGHT
BEGIN:STANDARD
TZOFFSETFROM:-0400
TZOFFSETTO:-0500
TZNAME:EST
DTSTART:20261101T060000
END:STANDARD
END:VTIMEZONE
BEGIN:VEVENT
DTSTART;TZID=America/New_York:20250319T083000
DTEND;TZID=America/New_York:20250319T153000
DTSTAMP:20260422T040902
CREATED:20240516T162832Z
LAST-MODIFIED:20250327T184446Z
UID:10000716-1742373000-1742398200@hispaniclatinogala.org
SUMMARY:Obtenga vacunas gratis para sus hijo(s).
DESCRIPTION:Regístrese hoy para vacunar a sus hijos en nuestro\n\n Su hijo merece una vida sana y activa\, y vacunarse en Novant Health Community Care Cruiser es un gran primer paso! Ofrecemos vacunas a niños desde el nacimiento hasta los 81 años que no tienen seguro\, tienen Medicaid o son elegibles para Medicaid. Puede inscribirse para todas las vacunas que su hijo necesita\, y son gratuitas. \nCómo conseguir una cita de vacunación para su hijo\n 1. Llamar al 844-644-3578 (NHHELPU). \n.2 Envíe una copia del registro completo de vacunas de su hijo a CommunityCruiser@NovantHealth.org o al 704-351-1703 antes de la fecha de su cita. \nSeleccione uno de los siguientes métodos para enviar registros\n • Envíe una copia del registro completo de vacunas de su hijo a CommunityCruiser@NovantHealth.org • Envíe una copia por mensaje de texto al 704-351-1703 \n• Envíe a nuestro fax seguro al 704- 316 -9451 \n• El envío de esta información por adelantado reducirá su tiempo de espera. \nEsto es lo que puede esperar\n • Sus hijos necesitarán un padre o tutor legal con ellos. \n• Traiga una copia del historial de vacunación de su hijo a la cita. \n• Los niños pueden recibir las vacunas si no tienen seguro\, tienen Medicaid o son elegibles para Medicaid. \n¡Ahora es un buen momento para vacunar a sus hijos por completo y ayudarlos a vivir la vida activa que se merecen!
URL:https://hispaniclatinogala.org/evento/obtenga-vacunas-gratis-para-sus-hijos/2025-03-19/
ATTACH;FMTTYPE=application/pdf:https://hispaniclatinogala.org/wp-content/uploads/2024/05/VACUNAS-NOVANT-HEALTH-spanish-flyer-3.pdf
ORGANIZER;CN="IWC":MAILTO:asanchez@mylac.org
END:VEVENT
BEGIN:VEVENT
DTSTART;TZID=America/New_York:20250319T100000
DTEND;TZID=America/New_York:20250319T120000
DTSTAMP:20260422T040902
CREATED:20250115T164355Z
LAST-MODIFIED:20250327T184351Z
UID:10003764-1742378400-1742385600@hispaniclatinogala.org
SUMMARY:TALLER DE RESUME PROFESIONAL
DESCRIPTION:¡Consigue la oportunidad laboral que tanto buscas! \nTE OFRECEMOS: \nCreación de resume curricular al estilo americano\nGuía para aplicar a una oferta de trabajo\nOrientación Profesional personalizada\nTécnicas y habilidades preparatorias para la entrevista de trabajo \nRESERVA TU CUPO LLAMANDO AL: +1 704 531 3848
URL:https://hispaniclatinogala.org/evento/taller-de-resume-profesional-2/2025-03-19/
LOCATION:Oficinas de LAC\, 4938 Central Ave. Suite 101\, Charlotte\, NC\, 28205\, Estados Unidos
CATEGORIES:Clase
ATTACH;FMTTYPE=image/jpeg:https://hispaniclatinogala.org/wp-content/uploads/2025/01/imagen-1-e1736959395179.jpg
ORGANIZER;CN="Latin American Coalition":MAILTO:info@mylac.org
END:VEVENT
END:VCALENDAR