BEGIN:VCALENDAR
VERSION:2.0
PRODID:-//La Coalicion - ECPv6.15.20//NONSGML v1.0//EN
CALSCALE:GREGORIAN
METHOD:PUBLISH
X-WR-CALNAME:La Coalicion
X-ORIGINAL-URL:https://hispaniclatinogala.org
X-WR-CALDESC:Events for La Coalicion
REFRESH-INTERVAL;VALUE=DURATION:PT1H
X-Robots-Tag:noindex
X-PUBLISHED-TTL:PT1H
BEGIN:VTIMEZONE
TZID:America/New_York
BEGIN:DAYLIGHT
TZOFFSETFROM:-0500
TZOFFSETTO:-0400
TZNAME:EDT
DTSTART:20240310T070000
END:DAYLIGHT
BEGIN:STANDARD
TZOFFSETFROM:-0400
TZOFFSETTO:-0500
TZNAME:EST
DTSTART:20241103T060000
END:STANDARD
BEGIN:DAYLIGHT
TZOFFSETFROM:-0500
TZOFFSETTO:-0400
TZNAME:EDT
DTSTART:20250309T070000
END:DAYLIGHT
BEGIN:STANDARD
TZOFFSETFROM:-0400
TZOFFSETTO:-0500
TZNAME:EST
DTSTART:20251102T060000
END:STANDARD
BEGIN:DAYLIGHT
TZOFFSETFROM:-0500
TZOFFSETTO:-0400
TZNAME:EDT
DTSTART:20260308T070000
END:DAYLIGHT
BEGIN:STANDARD
TZOFFSETFROM:-0400
TZOFFSETTO:-0500
TZNAME:EST
DTSTART:20261101T060000
END:STANDARD
END:VTIMEZONE
BEGIN:VEVENT
DTSTART;TZID=America/New_York:20250327T180000
DTEND;TZID=America/New_York:20250327T190000
DTSTAMP:20260422T040901
CREATED:20250327T180917Z
LAST-MODIFIED:20250327T184152Z
UID:10004423-1743098400-1743102000@hispaniclatinogala.org
SUMMARY:¡CONOCE TUS DERECHOS!
DESCRIPTION:¡CONOCE TUS DERECHOS! \n¿Sabes qué hacer si tienes una interacción con ICE? 🚨 Tener la información correcta puede marcar la diferencia. Únete a nuestro Taller Virtual Gratuito y conoce tus derechos de la mano de una experta en inmigración. \nPonente: Isabel Mendoza-García\, Esq.\nFecha: 27 de marzo de 2025\nHora: 6:00 p.m. – 7:00 p.m.\nPlataforma: Zoom \nRegístrate aquí: https://forms.office.com/r/aKjKXusFZ0\nO envía un mensaje al 704-941-6731
URL:https://hispaniclatinogala.org/evento/conoce-tus-derechos/
CATEGORIES:Educacional
ATTACH;FMTTYPE=image/jpeg:https://hispaniclatinogala.org/wp-content/uploads/2025/03/¡CONOCE-TUS-DERECHOS.jpg
END:VEVENT
END:VCALENDAR