BEGIN:VCALENDAR
VERSION:2.0
PRODID:-//La Coalicion - ECPv6.15.20//NONSGML v1.0//EN
CALSCALE:GREGORIAN
METHOD:PUBLISH
X-WR-CALNAME:La Coalicion
X-ORIGINAL-URL:https://hispaniclatinogala.org
X-WR-CALDESC:Events for La Coalicion
REFRESH-INTERVAL;VALUE=DURATION:PT1H
X-Robots-Tag:noindex
X-PUBLISHED-TTL:PT1H
BEGIN:VTIMEZONE
TZID:America/New_York
BEGIN:DAYLIGHT
TZOFFSETFROM:-0500
TZOFFSETTO:-0400
TZNAME:EDT
DTSTART:20220313T070000
END:DAYLIGHT
BEGIN:STANDARD
TZOFFSETFROM:-0400
TZOFFSETTO:-0500
TZNAME:EST
DTSTART:20221106T060000
END:STANDARD
BEGIN:DAYLIGHT
TZOFFSETFROM:-0500
TZOFFSETTO:-0400
TZNAME:EDT
DTSTART:20230312T070000
END:DAYLIGHT
BEGIN:STANDARD
TZOFFSETFROM:-0400
TZOFFSETTO:-0500
TZNAME:EST
DTSTART:20231105T060000
END:STANDARD
BEGIN:DAYLIGHT
TZOFFSETFROM:-0500
TZOFFSETTO:-0400
TZNAME:EDT
DTSTART:20240310T070000
END:DAYLIGHT
BEGIN:STANDARD
TZOFFSETFROM:-0400
TZOFFSETTO:-0500
TZNAME:EST
DTSTART:20241103T060000
END:STANDARD
END:VTIMEZONE
BEGIN:VEVENT
DTSTART;VALUE=DATE:20230511
DTEND;VALUE=DATE:20230512
DTSTAMP:20260424T065944
CREATED:20230510T040444Z
LAST-MODIFIED:20230510T040444Z
UID:10000003-1683763200-1683849599@hispaniclatinogala.org
SUMMARY:Giveaway for Mothers' Day
DESCRIPTION:¡Regala flores a Mamá en su día! Nuestro aliado “Olivia’s Bouquets” esta regalando un ramo de flores para los miembros que comenten\, compartan y den tag a tres personas que deberian hacerse miembros de LAC para disfrutar de todos los beneficios! El sorteo se llevara el dia 11 de Mayo\, y el ganador podra ir a recoger su arreglo floral a 6406 Old Pineville Rd. Los días 12\, 13\, 14 de mayo. \n¿No quieres participar y prefieres ordenar tus flores con anticipación? Llama al (863) 557-8443. ¡Recuerda que cuentas con tu 10% de descuento como miembro LAC!
URL:https://hispaniclatinogala.org/evento/giveaway-for-mothers-day/
ATTACH;FMTTYPE=image/jpeg:https://hispaniclatinogala.org/wp-content/uploads/2023/05/7b695b05-8651-4b1a-b4ed-425d5b42aed5.jpeg
END:VEVENT
END:VCALENDAR