BEGIN:VCALENDAR
VERSION:2.0
PRODID:-//La Coalicion - ECPv6.15.20//NONSGML v1.0//EN
CALSCALE:GREGORIAN
METHOD:PUBLISH
X-WR-CALNAME:La Coalicion
X-ORIGINAL-URL:https://hispaniclatinogala.org
X-WR-CALDESC:Events for La Coalicion
REFRESH-INTERVAL;VALUE=DURATION:PT1H
X-Robots-Tag:noindex
X-PUBLISHED-TTL:PT1H
BEGIN:VTIMEZONE
TZID:America/New_York
BEGIN:DAYLIGHT
TZOFFSETFROM:-0500
TZOFFSETTO:-0400
TZNAME:EDT
DTSTART:20230312T070000
END:DAYLIGHT
BEGIN:STANDARD
TZOFFSETFROM:-0400
TZOFFSETTO:-0500
TZNAME:EST
DTSTART:20231105T060000
END:STANDARD
BEGIN:DAYLIGHT
TZOFFSETFROM:-0500
TZOFFSETTO:-0400
TZNAME:EDT
DTSTART:20240310T070000
END:DAYLIGHT
BEGIN:STANDARD
TZOFFSETFROM:-0400
TZOFFSETTO:-0500
TZNAME:EST
DTSTART:20241103T060000
END:STANDARD
BEGIN:DAYLIGHT
TZOFFSETFROM:-0500
TZOFFSETTO:-0400
TZNAME:EDT
DTSTART:20250309T070000
END:DAYLIGHT
BEGIN:STANDARD
TZOFFSETFROM:-0400
TZOFFSETTO:-0500
TZNAME:EST
DTSTART:20251102T060000
END:STANDARD
END:VTIMEZONE
BEGIN:VEVENT
DTSTART;TZID=America/New_York:20240303T090000
DTEND;TZID=America/New_York:20240303T153000
DTSTAMP:20260421T143232
CREATED:20240305T161901Z
LAST-MODIFIED:20240305T161930Z
UID:10000351-1709456400-1709479800@hispaniclatinogala.org
SUMMARY:SEGURIDAD INDUSTRIAL OSHA 10
DESCRIPTION:Certificación de seguridad OSHA 10 En Español y sin costo para la comunidad hispana. Conozca los riesgos para la seguridad y la salud a los que pueden enfrentarse los trabajadores en las obras de construcción\, haciendo hincapié en la identificación\, el control\, la prevención y cómo evitar los peligros. \nCertificación Presencial  2 y 3 de marzo 9:00 am a 3:00 pm\nDirección: Latin American Coalition 4938 Central Ave #1 Charlotte\, NC 28205
URL:https://hispaniclatinogala.org/evento/seguridad-industrial-osha-10/2024-03-03/
LOCATION:Oficinas de LAC\, 4938 Central Ave. Suite 101\, Charlotte\, NC\, 28205\, Estados Unidos
CATEGORIES:Educacional
ATTACH;FMTTYPE=image/jpeg:https://hispaniclatinogala.org/wp-content/uploads/2024/03/OSHA10-EWC-03.02-Instagram_anonymous.jpg
ORGANIZER;CN="Latin American Coalition":MAILTO:info@mylac.org
END:VEVENT
BEGIN:VEVENT
DTSTART;TZID=America/New_York:20240306T180000
DTEND;TZID=America/New_York:20240306T200000
DTSTAMP:20260421T143232
CREATED:20240223T212144Z
LAST-MODIFIED:20240223T212510Z
UID:10000344-1709748000-1709755200@hispaniclatinogala.org
SUMMARY:TALLER ONLINE EDUCACIÓN FINANCIERA INCOME & PAYCHECK
DESCRIPTION:Lac Department: EWC \nDate of the event: Miércoles\, 06 de Marzo de 2024. \nEvent time: 6:00 pm – 8:00 pm \nAddress: Virtual workshop. \nWays to contact the organizers: Phone number: (980) 320 – 3741 www.mylac.org \n  \nDescriptive paragraph to post on social media: Taller Virtual\, gratis y en español. ???? Regístrate y Participe en nuestro taller de Educación Financiera así podrás aprender cómo manejar sus Ingresos\, cheques de pago y presupuesto impartido por Bank Of America para nuestra comunidad!!* ???? Tema: Educación Financiera: Income y Paycheck. ????️ Fecha: Miércoles 06 Marzo 2024. ???? Horario: 6:00 p.m. – 8:00 p.m. ???? Lugar: Virtual – Recibirán Link de Zoom después de registrarse. ¡Los esperamos a todos! \nPlease enter the registration link: https://forms.office.com/r/BgwqxM31bc \nPartners tags: @Bankofamerica
URL:https://hispaniclatinogala.org/evento/taller-online-educacion-financiera-income-paycheck/
LOCATION:Oficinas de LAC\, 4938 Central Ave. Suite 101\, Charlotte\, NC\, 28205\, Estados Unidos
CATEGORIES:Educacional
ATTACH;FMTTYPE=image/jpeg:https://hispaniclatinogala.org/wp-content/uploads/2024/02/Taller-BOFA-EWC-03.06-FACEBOOK_anonymous.jpg
ORGANIZER;CN="EWC":MAILTO:info@mylac.org
END:VEVENT
BEGIN:VEVENT
DTSTART;TZID=America/New_York:20240309T070000
DTEND;TZID=America/New_York:20240309T110000
DTSTAMP:20260421T143232
CREATED:20240305T160818Z
LAST-MODIFIED:20240305T160818Z
UID:10000348-1709967600-1709982000@hispaniclatinogala.org
SUMMARY:Jóvenes por la valentía carrera por la valentía de 5K
DESCRIPTION:¡Únete al primer Run for Courage 5k! ¡Un evento en reconocimiento al Mes de la Prevención y Concientización sobre la Violencia en el Noviazgo Adolescente para promover relaciones saludables entre adolescentes y crear conciencia sobre la TDV. Para registrarte (enlace en la biografía)\, ser patrocinador o aprender más\, visita JKFFC.ORG. ¡Se proporcionarán bebidas\, bocadillos y artículos promocionales a todos los participantes de la carrera! Y después de la carrera habrá diversión familiar para todos\, con una variedad de puestos y actividades.
URL:https://hispaniclatinogala.org/evento/jovenes-por-la-valentia-carrera-por-la-valentia-de-5k/
LOCATION:FESTIVAL DE CHILE\, 5818 CARMEL RD\, Charlotte\, North Carolina\, 28226\, Estados Unidos
CATEGORIES:Evento Deportivo
ATTACH;FMTTYPE=image/png:https://hispaniclatinogala.org/wp-content/uploads/2024/03/Run-for-Courage-1_anonymous.png
ORGANIZER;CN="YEC":MAILTO:yec@mylac.org
END:VEVENT
BEGIN:VEVENT
DTSTART;TZID=America/New_York:20240313T090000
DTEND;TZID=America/New_York:20240313T160000
DTSTAMP:20260421T143232
CREATED:20240305T160015Z
LAST-MODIFIED:20240305T160015Z
UID:10000347-1710320400-1710345600@hispaniclatinogala.org
SUMMARY:CUMBRE DE JÓVENES POR LA VALENTÍA
DESCRIPTION:¡Únete al 5ª Cumbre Anual de Adolescentes por la Valentía! Este marzo\, disfruta de varios talleres sobre temas como la Prevención del Abuso en la Familia y el Impacto en la Trata de Personas\, seguido de diversión en Carowinds.\n¡GRATIS para estudiantes de secundaria! ¡Hay disponibilidad limitada\, así que regístrate HOY usando el enlace en nuestra biografía o el código QR!
URL:https://hispaniclatinogala.org/evento/cumbre-de-jovenes-por-la-valentia/
LOCATION:Oficinas de LAC\, 4938 Central Ave. Suite 101\, Charlotte\, NC\, 28205\, Estados Unidos
CATEGORIES:Evento Cultural
ATTACH;FMTTYPE=image/jpeg:https://hispaniclatinogala.org/wp-content/uploads/2024/03/Spanish-Summit-2024-flyer_anonymous.jpg
ORGANIZER;CN="YEC":MAILTO:yec@mylac.org
END:VEVENT
BEGIN:VEVENT
DTSTART;TZID=America/New_York:20240314T123000
DTEND;TZID=America/New_York:20240314T153000
DTSTAMP:20260421T143232
CREATED:20240201T125653Z
LAST-MODIFIED:20240202T162829Z
UID:10000326-1710419400-1710430200@hispaniclatinogala.org
SUMMARY:ID Cominutario
DESCRIPTION:Regístrate y obtén tu ID comunitario en La Coalición \nEl ID comunitario es una tarjeta especialmente beneficiosa para aquellos que no poseen ningún tipo de identificación en este país. Emitida por LAC\, el ID comunitario es un privilegio exclusivo para nuestros miembros y está diseñado para facilitar y mejorar su participación en diversos aspectos de la vida cotidiana. \nConoce más de los beneficios que puedes disfrutar aquí \n\n¡Te animamos a solicitado tu ID comunitario\, te invitamos a registrarte enviando un correo electrónico a info@mylac.org o llamando al 704 5313848.\n\nEstamos aquí para ayudarte en el proceso y asegurarnos de que aproveches al máximo tu membresía en LAC.\n¡Aplica aquí para obtener el ID comunitario! \n12:30 PM a 3:30 pm en LAC Departamento IWC
URL:https://hispaniclatinogala.org/evento/id-cominutario-2/2024-03-14/
LOCATION:Oficinas de LAC\, 4938 Central Ave. Suite 101\, Charlotte\, NC\, 28205\, Estados Unidos
ATTACH;FMTTYPE=image/jpeg:https://hispaniclatinogala.org/wp-content/uploads/2024/02/MicrosoftTeams-image-19.jpg
ORGANIZER;CN="IWC":MAILTO:asanchez@mylac.org
END:VEVENT
BEGIN:VEVENT
DTSTART;TZID=America/New_York:20240314T170000
DTEND;TZID=America/New_York:20240314T180000
DTSTAMP:20260421T143232
CREATED:20240312T163958Z
LAST-MODIFIED:20240312T164057Z
UID:10000353-1710435600-1710439200@hispaniclatinogala.org
SUMMARY:TALLER PRESENCIAL DE EDUCACIÓN FINANCIERA
DESCRIPTION:Regístrate y participa en nuestro taller de educación financiera. Será Impartido por BofA y el departamento Económico y Desarrollo de la Fuerza Laboral de Latin American Coalition para nuestra comunidad latina. \nTALLER PRESENCIAL ESTABLECIENDO Y ALCANZANDO METAS FINANCIERAS.\nFecha: JUEVES 14 Marzo 2024\nHorario: 5:00 p.m. – 6:00 pm.\nPresencial en LAC 4938 Central Ave #1\, Charlotte\, NC 28205\n¡Regístrate! Cupos limitados. https://forms.office.com/r/diS2FtvDpp
URL:https://hispaniclatinogala.org/evento/taller-presencial-de-educacion-financiera/
LOCATION:Oficinas de LAC\, 4938 Central Ave. Suite 101\, Charlotte\, NC\, 28205\, Estados Unidos
CATEGORIES:Educacional
ATTACH;FMTTYPE=image/jpeg:https://hispaniclatinogala.org/wp-content/uploads/2024/03/EducacionFinanciera-EWC-03_14-facebook_anonymous.jpg
ORGANIZER;CN="EWC":MAILTO:info@mylac.org
END:VEVENT
END:VCALENDAR