BEGIN:VCALENDAR
VERSION:2.0
PRODID:-//La Coalicion - ECPv6.15.20//NONSGML v1.0//EN
CALSCALE:GREGORIAN
METHOD:PUBLISH
X-WR-CALNAME:La Coalicion
X-ORIGINAL-URL:https://hispaniclatinogala.org
X-WR-CALDESC:Events for La Coalicion
REFRESH-INTERVAL;VALUE=DURATION:PT1H
X-Robots-Tag:noindex
X-PUBLISHED-TTL:PT1H
BEGIN:VTIMEZONE
TZID:America/New_York
BEGIN:DAYLIGHT
TZOFFSETFROM:-0500
TZOFFSETTO:-0400
TZNAME:EDT
DTSTART:20230312T070000
END:DAYLIGHT
BEGIN:STANDARD
TZOFFSETFROM:-0400
TZOFFSETTO:-0500
TZNAME:EST
DTSTART:20231105T060000
END:STANDARD
BEGIN:DAYLIGHT
TZOFFSETFROM:-0500
TZOFFSETTO:-0400
TZNAME:EDT
DTSTART:20240310T070000
END:DAYLIGHT
BEGIN:STANDARD
TZOFFSETFROM:-0400
TZOFFSETTO:-0500
TZNAME:EST
DTSTART:20241103T060000
END:STANDARD
BEGIN:DAYLIGHT
TZOFFSETFROM:-0500
TZOFFSETTO:-0400
TZNAME:EDT
DTSTART:20250309T070000
END:DAYLIGHT
BEGIN:STANDARD
TZOFFSETFROM:-0400
TZOFFSETTO:-0500
TZNAME:EST
DTSTART:20251102T060000
END:STANDARD
END:VTIMEZONE
BEGIN:VEVENT
DTSTART;TZID=America/New_York:20240413T183000
DTEND;TZID=America/New_York:20240413T213000
DTSTAMP:20260421T174610
CREATED:20240408T182337Z
LAST-MODIFIED:20240408T182337Z
UID:10000367-1713033000-1713043800@hispaniclatinogala.org
SUMMARY:Charlotte Latino Film Festival: Érase una vez en el Caribe + Special Guest
DESCRIPTION:Date and time\n\n\n \n\nSaturday\, April 13 · 6:30 – 9:30pm EDT\n\n\n\n\n\n\n\n\n\n\n\n\n\n\nLocation\n\n \n\nThe Independent Picture House \n4237 Raleigh Street Charlotte\, NC 28213 United States \nShow map\n\n\n\n\n\n\n\n\n\n\n\nRefund Policy\n\nContact the organizer to request a refund.\nEventbrite’s fee is nonrefundable.\n\n\n\n\n\n\n\nAbout this event\n\n\n3 hours\n\n\n\n\n\n\nÉrase una vez en el Caribe (Once Upon a Time in the Caribbean)\nDirected by Ray Figueroa\n(Puerto Rico\, 2023\, 135 min.\, in Spanish with English subtitles\, ages 16+)\n*Actor Modesto Lacén will be in attendance* \nJoin us for our Closing Night Party after the film at Divine Barrel Brewing! \nJuan Encarnación was once the most feared man; a man of few words and great actions\, most of them with machetes. Everything changed when he met the love of his life\, Pura. She converted him into a quiet family man. His idyllic life is destroyed when\, bewitched by her beauty\, capricious Walker Jr. kidnaps Pura. Carrying his baby daughter on his back and with machete in hand\, Encarnación will do whatever it takes to rescue her. \nJuan Encarnación era antes el hombre más temido; de pocas palabras y grandes acciones\, la mayoría de ellas a machetazos. Todo cambió cuando conoció al amor de su vida\, Pura. Ella lo convirtió en un hombre tranquilo de familia. Su vida idílica es destruida cuando\, embrujado por su belleza\, el caprichoso Walker Jr. secuestra a Pura. Cargando a su hija bebé en su espalda y con machete en mano\, Encarnación hará lo que sea por recuperarla.
URL:https://hispaniclatinogala.org/evento/charlotte-latino-film-festival-erase-una-vez-en-el-caribe-special-guest/
ATTACH;FMTTYPE=image/jpeg:https://hispaniclatinogala.org/wp-content/uploads/2024/04/https___cdn.evbuc_.com_images_716149009_303575152286_1_original.jpeg
END:VEVENT
BEGIN:VEVENT
DTSTART;TZID=America/New_York:20240414T100000
DTEND;TZID=America/New_York:20240414T123000
DTSTAMP:20260421T174610
CREATED:20240408T182805Z
LAST-MODIFIED:20240408T182805Z
UID:10000369-1713088800-1713097800@hispaniclatinogala.org
SUMMARY:Cafecito with Modesto Lacén
DESCRIPTION:Date and time\n\n\n \n\nSunday\, April 14 · 11am – 12:30pm EDT\n\n\n\n\n\n\n\n\n\n\n\n\n\n\nLocation\n\n \n\nSalud Cerveceria \n3306 North Davidson Street Charlotte\, NC 28205 United States \nShow map\n\n\n\n\n\n\n\n\n\n\n\nAbout this event\n\n\n1 hour 30 minutes\n\n\n\n\n\n\nGrab some cafecito and learn about Lacén’s acting journey and his advocacy efforts for more Black talent in front and behind cameras. Audience Q&A to follow. \n\nAbout Modesto Lacén\nActor\, entrepreneur\, tv host and teacher with a history of 30 years of uninterrupted work in Puerto Rico\, the United States\, Spain\, Colombia and Dominican Republic. \nOne of his most important works was his interpretation of Pedro Knight (Celia Cruz’ husband) in the hit Off-Broadway play Celia: The Life and Music of Celia Cruz; which ran for over a year. Lacén reprises don Pedro Knight\, from his early youth this time\, in the TV series Celia\, produced by Fox Telecolombia and Telemundo\, released in 2015. Celia has aired with a great amount of success worldwide through Netflix. \nHis latest projects are Blue Beetle (Warner Bros)\, The Plane (Lionsgate)\, the reboot of Fantasy Island (FOX TV)\, Perfecto Anfitrión (Pantaya) and Puerto Rican films La Pecera (Sundance)\, Érase una vez en el Caribe and the soap opera Devuélveme la vida (Caracol TV).
URL:https://hispaniclatinogala.org/evento/cafecito-with-modesto-lacen/
ATTACH;FMTTYPE=image/jpeg:https://hispaniclatinogala.org/wp-content/uploads/2024/04/https___cdn.evbuc_.com_images_718077969_303575152286_1_original.jpeg
END:VEVENT
BEGIN:VEVENT
DTSTART;TZID=America/New_York:20240414T153000
DTEND;TZID=America/New_York:20240414T173000
DTSTAMP:20260421T174610
CREATED:20240408T182950Z
LAST-MODIFIED:20240408T182950Z
UID:10000370-1713108600-1713115800@hispaniclatinogala.org
SUMMARY:Charlotte Latino Film Festival: Eduardo e Mônica (Eduardo and Monica)
DESCRIPTION:Date and time\n\n\n \n\nSunday\, April 14 · 3:30 – 5:30pm EDT\n\n\n\n\n\n\n\n\n\n\n\n\n\n\nLocation\n\n \n\nThe Independent Picture House \n4237 Raleigh Street Charlotte\, NC 28213 United States \nShow map\n\n\n\n\n\n\n\n\n\n\n\nRefund Policy\n\nContact the organizer to request a refund.\nEventbrite’s fee is nonrefundable.\n\n\n\n\n\n\n\nAbout this event\n\n\n2 hours\n\n\n\n\n\n\nEduardo e Mônica (Eduardo and Monica)\nDirected by Rene Sampaio\n(Brazil\, 2020\, 114 min.\, in Portuguese with English subtitles\, ages 16+) \nOn an unusual day\, a series of coincidences leads Eduardo to meet Monica at a party. Curiosity aroused\, the two fall madly in love despite not being alike. Inspired by the famous Renato Russo song. \nEn un día inusual\, una serie de coincidencias llevan a Eduardo a conocer a Mónica en una fiesta. Despertada la curiosidad\, los dos se enamoran perdidamente a pesar de no ser parecidos. Inspirada en la famosa canción de Renato Russo. \nNum dia inusitado\, uma série de coincidências leva Eduardo a conhecer Mónica numa festa. Despertada a curiosidade\, os dois se apaixonam perdidamente apesar de não serem parecidos. Inspirado na famosa canção de Renato Russo.
URL:https://hispaniclatinogala.org/evento/charlotte-latino-film-festival-eduardo-e-monica-eduardo-and-monica/
ATTACH;FMTTYPE=image/jpeg:https://hispaniclatinogala.org/wp-content/uploads/2024/04/https___cdn.evbuc_.com_images_716155599_303575152286_1_original.jpeg
END:VEVENT
BEGIN:VEVENT
DTSTART;TZID=America/New_York:20240416T180000
DTEND;TZID=America/New_York:20240416T190000
DTSTAMP:20260421T174610
CREATED:20240412T153031Z
LAST-MODIFIED:20240412T153031Z
UID:10000372-1713290400-1713294000@hispaniclatinogala.org
SUMMARY:BECOME A GIRL SCOUT
DESCRIPTION:¡Acompáñanos el próximo 16 de abril para plantar pepinos\, calabazas y girasoles con nuestra tropa! Este evento al aire libre es para toda la familia y todas las edades! Favor de vestirse adecuadamente para la jardinería. \n¡Esperamos verte a las 6:00pm en el jardín comunitario ubicado en 3105 Winterfield Pl\, Charlotte\, NC 28205!
URL:https://hispaniclatinogala.org/evento/become-a-girl-scout/
CATEGORIES:Evento Cultural
ATTACH;FMTTYPE=image/jpeg:https://hispaniclatinogala.org/wp-content/uploads/2024/04/GS-4.16-YEC-ENG_anonymous.jpg
END:VEVENT
BEGIN:VEVENT
DTSTART;TZID=America/New_York:20240418T173000
DTEND;TZID=America/New_York:20240418T190000
DTSTAMP:20260421T174610
CREATED:20240412T195419Z
LAST-MODIFIED:20240412T195419Z
UID:10000373-1713461400-1713466800@hispaniclatinogala.org
SUMMARY:Certificado en Marketing Digital y Comercio Electrónico
DESCRIPTION:Los temas que aprenderás: \n\nIntroducción a los fundamentos del marketing digital y el comercio electrónico.\nEl recorrido del cliente y el embudo de marketing.\nEstrategias de marketing digital y comercio electrónico.\nMetricas del éxito.
URL:https://hispaniclatinogala.org/evento/certificado-en-marketing-digital-y-comercio-electronico/
LOCATION:Oficinas de LAC\, 4938 Central Ave. Suite 101\, Charlotte\, NC\, 28205\, Estados Unidos
CATEGORIES:Educacional
ATTACH;FMTTYPE=image/jpeg:https://hispaniclatinogala.org/wp-content/uploads/2024/04/MARKETINGDIGITAL-EWC-04_18-FACEBOOK_anonymous.jpg
ORGANIZER;CN="Latin American Coalition":MAILTO:info@mylac.org
END:VEVENT
BEGIN:VEVENT
DTSTART;TZID=America/New_York:20240419T193000
DTEND;TZID=America/New_York:20240419T233000
DTSTAMP:20260421T174610
CREATED:20240404T132522Z
LAST-MODIFIED:20240404T132522Z
UID:10000360-1713555000-1713569400@hispaniclatinogala.org
SUMMARY:Mint 2 Move Cultural Dance Night
DESCRIPTION:¡Ven y únete a nosotros en una noche llena de ritmo y diversión en el Mint Museum Uptown! El Mint 2 Move Cultural Dance Night está de vuelta y esta vez será mejor que nunca. Marca tu calendario para el 19 de abril a partir de las 7:30 PM y prepárate para una experiencia cultural inolvidable.\n\nNo importa si eres un experto en la pista de baile o simplemente quieres mover el esqueleto\, todos son bienvenidos a participar. Con clases de baile gratuitas para todos los niveles\, música en vivo que te hará vibrar\, artistas creando en vivo y una variedad de vendedores culturales\, esta noche promete ser una celebración de la diversidad y la alegría.\n\nComo miembro de la coalición\, recuerda que tienes un beneficio adicional: ¡un descuento especial en tus entradas! Así que no pierdas esta oportunidad de unirte a la comunidad en un evento que celebra el arte\, la cultura y la conexión humana.\n\n¡Mantente atento para más información sobre la venta de entradas y asegúrate de reservar tu lugar para esta increíble noche de movimiento en el Mint!
URL:https://hispaniclatinogala.org/evento/mint-2-move-cultural-dance-night/
LOCATION:Oficinas de LAC\, 4938 Central Ave. Suite 101\, Charlotte\, NC\, 28205\, Estados Unidos
CATEGORIES:Evento Musical
ORGANIZER;CN="Latin American Coalition":MAILTO:info@mylac.org
END:VEVENT
BEGIN:VEVENT
DTSTART;TZID=America/New_York:20240425T123000
DTEND;TZID=America/New_York:20240425T153000
DTSTAMP:20260421T174610
CREATED:20240201T125653Z
LAST-MODIFIED:20240202T162829Z
UID:10000329-1714048200-1714059000@hispaniclatinogala.org
SUMMARY:ID Cominutario
DESCRIPTION:Regístrate y obtén tu ID comunitario en La Coalición \nEl ID comunitario es una tarjeta especialmente beneficiosa para aquellos que no poseen ningún tipo de identificación en este país. Emitida por LAC\, el ID comunitario es un privilegio exclusivo para nuestros miembros y está diseñado para facilitar y mejorar su participación en diversos aspectos de la vida cotidiana. \nConoce más de los beneficios que puedes disfrutar aquí \n\n¡Te animamos a solicitado tu ID comunitario\, te invitamos a registrarte enviando un correo electrónico a info@mylac.org o llamando al 704 5313848.\n\nEstamos aquí para ayudarte en el proceso y asegurarnos de que aproveches al máximo tu membresía en LAC.\n¡Aplica aquí para obtener el ID comunitario! \n12:30 PM a 3:30 pm en LAC Departamento IWC
URL:https://hispaniclatinogala.org/evento/id-cominutario-2/2024-04-25/
LOCATION:Oficinas de LAC\, 4938 Central Ave. Suite 101\, Charlotte\, NC\, 28205\, Estados Unidos
ATTACH;FMTTYPE=image/jpeg:https://hispaniclatinogala.org/wp-content/uploads/2024/02/MicrosoftTeams-image-19.jpg
ORGANIZER;CN="IWC":MAILTO:asanchez@mylac.org
END:VEVENT
END:VCALENDAR