BEGIN:VCALENDAR
VERSION:2.0
PRODID:-//La Coalicion - ECPv6.15.20//NONSGML v1.0//EN
CALSCALE:GREGORIAN
METHOD:PUBLISH
X-WR-CALNAME:La Coalicion
X-ORIGINAL-URL:https://hispaniclatinogala.org
X-WR-CALDESC:Events for La Coalicion
REFRESH-INTERVAL;VALUE=DURATION:PT1H
X-Robots-Tag:noindex
X-PUBLISHED-TTL:PT1H
BEGIN:VTIMEZONE
TZID:America/New_York
BEGIN:DAYLIGHT
TZOFFSETFROM:-0500
TZOFFSETTO:-0400
TZNAME:EDT
DTSTART:20220313T070000
END:DAYLIGHT
BEGIN:STANDARD
TZOFFSETFROM:-0400
TZOFFSETTO:-0500
TZNAME:EST
DTSTART:20221106T060000
END:STANDARD
BEGIN:DAYLIGHT
TZOFFSETFROM:-0500
TZOFFSETTO:-0400
TZNAME:EDT
DTSTART:20230312T070000
END:DAYLIGHT
BEGIN:STANDARD
TZOFFSETFROM:-0400
TZOFFSETTO:-0500
TZNAME:EST
DTSTART:20231105T060000
END:STANDARD
BEGIN:DAYLIGHT
TZOFFSETFROM:-0500
TZOFFSETTO:-0400
TZNAME:EDT
DTSTART:20240310T070000
END:DAYLIGHT
BEGIN:STANDARD
TZOFFSETFROM:-0400
TZOFFSETTO:-0500
TZNAME:EST
DTSTART:20241103T060000
END:STANDARD
END:VTIMEZONE
BEGIN:VEVENT
DTSTART;VALUE=DATE:20230526
DTEND;VALUE=DATE:20230901
DTSTAMP:20260421T215017
CREATED:20230526T151601Z
LAST-MODIFIED:20230526T151601Z
UID:10000006-1685059200-1693526399@hispaniclatinogala.org
SUMMARY:Seeking Club Officers for the Courage Club at LAC!
DESCRIPTION:Interest Flyer for Courage Club (upcoming Opportunity at LAC) \nDo you want to make a difference in your community? Join the Courage Club at LAC and become a club officer! \nAs a club officer\, you will have a unique leadership opportunity to shape the direction of our Courage Club. Join us and be a part of a movement to create change and raise awareness about teen dating violence. Together\, we can make a difference! \nTo apply or learn more about our club officer positions\, please fill out the application form available at https://forms.office.com/r/nPvwJjDbb6 For any questions or further information\, please contact Nancy Apolinar at 704-531-3849 yecmanager@mylac.org \nContact \nNancy Apolinar 704-531-3849 napolinar@mylac.org
URL:https://hispaniclatinogala.org/evento/seeking-club-officers-for-the-courage-club-at-lac/
ATTACH;FMTTYPE=image/jpeg:https://hispaniclatinogala.org/wp-content/uploads/2023/05/COURAGE-CLUB_FB-scaled.jpg
END:VEVENT
BEGIN:VEVENT
DTSTART;TZID=America/New_York:20230610T090000
DTEND;TZID=America/New_York:20230610T110000
DTSTAMP:20260421T215017
CREATED:20230510T034718Z
LAST-MODIFIED:20230510T034718Z
UID:10000002-1686387600-1686394800@hispaniclatinogala.org
SUMMARY:FREE SOCCER CLINIC WITH Charlotte FC
DESCRIPTION:EXCLUSIVE FOR MEMBERS\n\nKids age: 7-18 years\nDate: Saturday\, June 10th\, 9-11 am\nLocation: 8510 McAlpine Park Drive\, 28211\n\nSpots are limited to 75 players\n\nTo register and obtain more information\, email members@mylac.org with the following:\n– Member Number (located under the barcode on your digital LAC card)\n– Name\n– Date of birth of the players.\n\n\nVolunteer players and coaches must be active members of LAC.\n\nIf you are not a LAC member yet and you want to participate in this activity and other exclusive events for members\, register today at our website mylac.org
URL:https://hispaniclatinogala.org/evento/free-soccer-clinic-with-charlotte-fc/
ATTACH;FMTTYPE=image/jpeg:https://hispaniclatinogala.org/wp-content/uploads/2023/05/ffe758f4-0ea6-47c5-9e4b-3e82afd09c74.jpeg
END:VEVENT
BEGIN:VEVENT
DTSTART;TZID=America/New_York:20230610T090000
DTEND;TZID=America/New_York:20230610T110000
DTSTAMP:20260421T215017
CREATED:20230522T164836Z
LAST-MODIFIED:20230522T164836Z
UID:10000005-1686387600-1686394800@hispaniclatinogala.org
SUMMARY:Charlotte FC tickets GIVEAWAY
DESCRIPTION:Este va a ser el giveaway:  \n5 miembros participantes en la clínica de futbol del 10 de junio se llevarán un par de boletos y bufandas para el partido de la noche del 10 de junio de Charlotte FC. \nRequisitos para participar:  \nSer miembro activo LAC Estar inscrito a la clínica de futbol de Charlotte FC y LAC. \nComentar #yosoylac en los comentarios de este post Tag a un amigo que quieras invitar a la clínica y a hacerse miembro Resultados se darán a conocer el 5 de junio. \nParticipantes recogerán sus boletos y regalo el 10 de junio durante la clínica de futbol.
URL:https://hispaniclatinogala.org/evento/charlotte-fc-tickets-giveaway/
ATTACH;FMTTYPE=image/jpeg:https://hispaniclatinogala.org/wp-content/uploads/2023/05/339d5d07-138d-4e3f-a8ba-686e8aa6a898.jpeg
END:VEVENT
END:VCALENDAR