BEGIN:VCALENDAR
VERSION:2.0
PRODID:-//La Coalicion - ECPv6.15.20//NONSGML v1.0//EN
CALSCALE:GREGORIAN
METHOD:PUBLISH
X-WR-CALNAME:La Coalicion
X-ORIGINAL-URL:https://hispaniclatinogala.org
X-WR-CALDESC:Events for La Coalicion
REFRESH-INTERVAL;VALUE=DURATION:PT1H
X-Robots-Tag:noindex
X-PUBLISHED-TTL:PT1H
BEGIN:VTIMEZONE
TZID:America/New_York
BEGIN:DAYLIGHT
TZOFFSETFROM:-0500
TZOFFSETTO:-0400
TZNAME:EDT
DTSTART:20220313T070000
END:DAYLIGHT
BEGIN:STANDARD
TZOFFSETFROM:-0400
TZOFFSETTO:-0500
TZNAME:EST
DTSTART:20221106T060000
END:STANDARD
BEGIN:DAYLIGHT
TZOFFSETFROM:-0500
TZOFFSETTO:-0400
TZNAME:EDT
DTSTART:20230312T070000
END:DAYLIGHT
BEGIN:STANDARD
TZOFFSETFROM:-0400
TZOFFSETTO:-0500
TZNAME:EST
DTSTART:20231105T060000
END:STANDARD
BEGIN:DAYLIGHT
TZOFFSETFROM:-0500
TZOFFSETTO:-0400
TZNAME:EDT
DTSTART:20240310T070000
END:DAYLIGHT
BEGIN:STANDARD
TZOFFSETFROM:-0400
TZOFFSETTO:-0500
TZNAME:EST
DTSTART:20241103T060000
END:STANDARD
END:VTIMEZONE
BEGIN:VEVENT
DTSTART;TZID=America/New_York:20230909T100000
DTEND;TZID=America/New_York:20230909T130000
DTSTAMP:20260421T172843
CREATED:20230823T160825Z
LAST-MODIFIED:20230825T171000Z
UID:10000012-1694253600-1694264400@hispaniclatinogala.org
SUMMARY:Por La Cultura - Clinica de Futbol con Charlotte FC
DESCRIPTION:¡Hola a todos los Miembros LAC!  \nTenemos el placer de invitarlos a ser parte de un emocionante evento que celebra nuestra cultura y herencia hispana a través del deporte que amamos: el fútbol. Únanse a nosotros en la flamante clínica de fútbol organizada por el Charlotte FC\, donde la pasión por el juego se combina con la riqueza de nuestras tradiciones.  \nAdemás de las emocionantes sesiones de entrenamiento\, hemos preparado un food truck con delicias culinarias que nos conectan con nuestros orígenes\, y una serie de juegos para garantizar la diversión de todos los asistentes. Debido a la abrumadora demanda\, estamos emocionados de anunciar que hemos expandido el cupo para asegurarnos de que nadie se quede afuera.  \n¡No se pierdan esta oportunidad única\, regístrense cuanto antes! \nPara comprar boletos por EventBrite\, haz click aquí o escanea el código QR: \n \n¡Los esperamos para compartir juntos este día inolvidable! Habrá sorpresas.
URL:https://hispaniclatinogala.org/evento/por-la-cultura-clinica-de-futbol-con-charlotte-fc/
LOCATION:Centro de Entrenamiento de Charlotte FC\, 8510 Mc Alpine Park Dr.\, Charlotte\, NC\, 28211\, Estados Unidos
CATEGORIES:Evento Deportivo
ATTACH;FMTTYPE=image/jpeg:https://hispaniclatinogala.org/wp-content/uploads/2023/08/HHThemeNight_CampClinic_1x1-ENGLISH.jpg
ORGANIZER;CN="Latin American Coalition":MAILTO:info@mylac.org
END:VEVENT
BEGIN:VEVENT
DTSTART;VALUE=DATE:20230914
DTEND;VALUE=DATE:20230915
DTSTAMP:20260421T172843
CREATED:20230912T185426Z
LAST-MODIFIED:20230912T185426Z
UID:10000015-1694649600-1694735999@hispaniclatinogala.org
SUMMARY:JORNADA DE ID COMUNITARIO
DESCRIPTION:
URL:https://hispaniclatinogala.org/evento/jornada-de-id-comunitario/
LOCATION:Oficinas de LAC\, 4938 Central Ave. Suite 101\, Charlotte\, NC\, 28205\, Estados Unidos
CATEGORIES:Educacional
ATTACH;FMTTYPE=image/jpeg:https://hispaniclatinogala.org/wp-content/uploads/2023/09/ID-COMUNITARIO_IG.jpg
ORGANIZER;CN="Latin American Coalition":MAILTO:info@mylac.org
END:VEVENT
BEGIN:VEVENT
DTSTART;TZID=America/New_York:20230923T120000
DTEND;TZID=America/New_York:20230923T210000
DTSTAMP:20260421T172843
CREATED:20230823T204005Z
LAST-MODIFIED:20230920T212030Z
UID:10000013-1695470400-1695502800@hispaniclatinogala.org
SUMMARY:33 FESTIVAL LATINOAMERICANO
DESCRIPTION:33º Festival Latinoamericano de Charlotte\n\n\n\n\n\nEl Festival Latinoamericano\, un evento cultural característico de la ciudad de Charlotte\, vuelve por su 33º año consecutivo\, este 23 de septiembre de 2023\, de 12 a 8PM\, con nueva ubicación “The Amp Ballantyne”  en el corazón de la comunidad de Ballantyne. Como de costumbre\, el evento da la bienvenida a actos musicales de renombre internacional\, variedad gastronómica y la representación cultural de 19 países de América Latina  organizados por la comunidad a través de un mercadito auténtico\, presentaciones de baile típicos y más. \n\n\n\n\nNos complace anunciar que el LAF formará parte del Festival Internacional de Artes de Charlotte\, original del Blumenthal Performing Arts\, que tendrá lugar del 15 de septiembre al 1 de octubre de 2023. Para obtener más información\, visite CharlotteArtsFest.com \n 
URL:https://hispaniclatinogala.org/evento/33-festival-latinoamericano/
LOCATION:FESTIVAL DE CHILE\, 5818 CARMEL RD\, Charlotte\, North Carolina\, 28226\, Estados Unidos
CATEGORIES:Evento Musical
ATTACH;FMTTYPE=image/jpeg:https://hispaniclatinogala.org/wp-content/uploads/2023/08/IMG_3977.jpg
END:VEVENT
END:VCALENDAR