BEGIN:VCALENDAR
VERSION:2.0
PRODID:-//La Coalicion - ECPv6.15.20//NONSGML v1.0//EN
CALSCALE:GREGORIAN
METHOD:PUBLISH
X-WR-CALNAME:La Coalicion
X-ORIGINAL-URL:https://hispaniclatinogala.org
X-WR-CALDESC:Events for La Coalicion
REFRESH-INTERVAL;VALUE=DURATION:PT1H
X-Robots-Tag:noindex
X-PUBLISHED-TTL:PT1H
BEGIN:VTIMEZONE
TZID:America/New_York
BEGIN:DAYLIGHT
TZOFFSETFROM:-0500
TZOFFSETTO:-0400
TZNAME:EDT
DTSTART:20230312T070000
END:DAYLIGHT
BEGIN:STANDARD
TZOFFSETFROM:-0400
TZOFFSETTO:-0500
TZNAME:EST
DTSTART:20231105T060000
END:STANDARD
BEGIN:DAYLIGHT
TZOFFSETFROM:-0500
TZOFFSETTO:-0400
TZNAME:EDT
DTSTART:20240310T070000
END:DAYLIGHT
BEGIN:STANDARD
TZOFFSETFROM:-0400
TZOFFSETTO:-0500
TZNAME:EST
DTSTART:20241103T060000
END:STANDARD
BEGIN:DAYLIGHT
TZOFFSETFROM:-0500
TZOFFSETTO:-0400
TZNAME:EDT
DTSTART:20250309T070000
END:DAYLIGHT
BEGIN:STANDARD
TZOFFSETFROM:-0400
TZOFFSETTO:-0500
TZNAME:EST
DTSTART:20251102T060000
END:STANDARD
END:VTIMEZONE
BEGIN:VEVENT
DTSTART;VALUE=DATE:20241031
DTEND;VALUE=DATE:20241103
DTSTAMP:20260421T202003
CREATED:20241004T205223Z
LAST-MODIFIED:20241007T152149Z
UID:10001617-1730332800-1730591999@hispaniclatinogala.org
SUMMARY:DÍA DE MUERTOS
DESCRIPTION:JOIN US IN A DAY OF THE DEAD CELEBRATION!\nEnjoy our three course menu and join us for a fiesta with specialty drinks\, live Latin music\, a special appearance from the Latin Coalition of Charlotte\, and more! \nMORE INFORMATION AT DOSCAMINOS.COM
URL:https://hispaniclatinogala.org/evento/dia-de-muertos/
CATEGORIES:Evento Cultural
ATTACH;FMTTYPE=image/jpeg:https://hispaniclatinogala.org/wp-content/uploads/2024/10/WhatsApp-Image-2024-10-04-at-13.19.33.jpeg
END:VEVENT
BEGIN:VEVENT
DTSTART;VALUE=DATE:20241102
DTEND;VALUE=DATE:20241103
DTSTAMP:20260421T202003
CREATED:20231222T002046Z
LAST-MODIFIED:20240108T210403Z
UID:10000022-1730505600-1730591999@hispaniclatinogala.org
SUMMARY:20th Annual Festival Día de Muertos: Day of the Dead Festival Save the date
DESCRIPTION:
URL:https://hispaniclatinogala.org/evento/20th-annual-festival-dia-de-muertos-day-of-the-dead-festival/
LOCATION:Oficinas de LAC\, 4938 Central Ave. Suite 101\, Charlotte\, NC\, 28205\, Estados Unidos
CATEGORIES:Evento Cultural
ORGANIZER;CN="Latin American Coalition":MAILTO:info@mylac.org
END:VEVENT
BEGIN:VEVENT
DTSTART;TZID=America/New_York:20241105T130000
DTEND;TZID=America/New_York:20241105T150000
DTSTAMP:20260421T202003
CREATED:20240514T155738Z
LAST-MODIFIED:20250327T184339Z
UID:10000409-1730811600-1730818800@hispaniclatinogala.org
SUMMARY:"Taller de Fuerza Laboral
DESCRIPTION:APRENDERÁS SOBRE: \nDerechos laborales \nHerramientas para la búsqueda de trabajo \nBolsa de trabajo actualizada \nCreación de conexiones \nFecha:  Todos los martes de 1:00 PM – 3:00 PM \nSala: Centro Cultural Olma Echeverri
URL:https://hispaniclatinogala.org/evento/taller-de-fuerza-laboral/2024-11-05/
LOCATION:Oficinas de LAC\, 4938 Central Ave. Suite 101\, Charlotte\, NC\, 28205\, Estados Unidos
CATEGORIES:Educacional
ATTACH;FMTTYPE=image/jpeg:https://hispaniclatinogala.org/wp-content/uploads/2024/05/Image-3-e1736958480553.jpg
ORGANIZER;CN="EWC":MAILTO:info@mylac.org
END:VEVENT
BEGIN:VEVENT
DTSTART;TZID=America/New_York:20241109T100000
DTEND;TZID=America/New_York:20241109T140000
DTSTAMP:20260421T202003
CREATED:20241019T191405Z
LAST-MODIFIED:20241019T191405Z
UID:10001620-1731146400-1731160800@hispaniclatinogala.org
SUMMARY:EL DIA DEL CONOCIMIENTO FINANCIERO HISPANO
DESCRIPTION:Durante JA Finance Park®\, losestudiantes explorarán carreras ygestiones financiera a través deactividades prácticas y juegos detrabajo en equipo. Losestudiantes interactuarán conotros estudiantes y jugaránjuegos mientras se preparan parapara ser adultos y aprenderconceptos claves comoresolución de problemas\, gestiónempresarial\, presupuestos ¡y más! \nAlmuerzo y Cuidado Infantil \nAbrimos las puertas a todaslas families para que se unana nosotros en este increibledia de JA Parque Financiero.Se brindara almuerzo ycuidado infantil. \nGRADOS: 7-12\nCUANDO: SÁBADO 9 DE NOVEMBRE\, 2024\nHORARIO: 10AM – 2PM\nCOSTO: GRATIS\nLUGAR: 1701 N GRAHAM ST #100\, CHARLOTTE\, NC 28206 ¡INSCRIPCIONES ABIERTAS!
URL:https://hispaniclatinogala.org/evento/el-dia-del-conocimiento-financiero-hispano/
CATEGORIES:Clase,Educacional
ATTACH;FMTTYPE=application/pdf:https://hispaniclatinogala.org/wp-content/uploads/2024/10/11-9-24-Spanish-Fin-Lit-Day-Flyer-Updated-10.9.24-2-1.pdf
END:VEVENT
BEGIN:VEVENT
DTSTART;TZID=America/New_York:20241112T130000
DTEND;TZID=America/New_York:20241112T150000
DTSTAMP:20260421T202003
CREATED:20240514T155738Z
LAST-MODIFIED:20250327T184339Z
UID:10000410-1731416400-1731423600@hispaniclatinogala.org
SUMMARY:"Taller de Fuerza Laboral
DESCRIPTION:APRENDERÁS SOBRE: \nDerechos laborales \nHerramientas para la búsqueda de trabajo \nBolsa de trabajo actualizada \nCreación de conexiones \nFecha:  Todos los martes de 1:00 PM – 3:00 PM \nSala: Centro Cultural Olma Echeverri
URL:https://hispaniclatinogala.org/evento/taller-de-fuerza-laboral/2024-11-12/
LOCATION:Oficinas de LAC\, 4938 Central Ave. Suite 101\, Charlotte\, NC\, 28205\, Estados Unidos
CATEGORIES:Educacional
ATTACH;FMTTYPE=image/jpeg:https://hispaniclatinogala.org/wp-content/uploads/2024/05/Image-3-e1736958480553.jpg
ORGANIZER;CN="EWC":MAILTO:info@mylac.org
END:VEVENT
BEGIN:VEVENT
DTSTART;TZID=America/New_York:20241119T130000
DTEND;TZID=America/New_York:20241119T150000
DTSTAMP:20260421T202003
CREATED:20240514T155738Z
LAST-MODIFIED:20250327T184339Z
UID:10000411-1732021200-1732028400@hispaniclatinogala.org
SUMMARY:"Taller de Fuerza Laboral
DESCRIPTION:APRENDERÁS SOBRE: \nDerechos laborales \nHerramientas para la búsqueda de trabajo \nBolsa de trabajo actualizada \nCreación de conexiones \nFecha:  Todos los martes de 1:00 PM – 3:00 PM \nSala: Centro Cultural Olma Echeverri
URL:https://hispaniclatinogala.org/evento/taller-de-fuerza-laboral/2024-11-19/
LOCATION:Oficinas de LAC\, 4938 Central Ave. Suite 101\, Charlotte\, NC\, 28205\, Estados Unidos
CATEGORIES:Educacional
ATTACH;FMTTYPE=image/jpeg:https://hispaniclatinogala.org/wp-content/uploads/2024/05/Image-3-e1736958480553.jpg
ORGANIZER;CN="EWC":MAILTO:info@mylac.org
END:VEVENT
BEGIN:VEVENT
DTSTART;TZID=America/New_York:20241120T083000
DTEND;TZID=America/New_York:20241120T153000
DTSTAMP:20260421T202003
CREATED:20240516T162832Z
LAST-MODIFIED:20250327T184446Z
UID:10000712-1732091400-1732116600@hispaniclatinogala.org
SUMMARY:Obtenga vacunas gratis para sus hijo(s).
DESCRIPTION:Regístrese hoy para vacunar a sus hijos en nuestro\n\n Su hijo merece una vida sana y activa\, y vacunarse en Novant Health Community Care Cruiser es un gran primer paso! Ofrecemos vacunas a niños desde el nacimiento hasta los 81 años que no tienen seguro\, tienen Medicaid o son elegibles para Medicaid. Puede inscribirse para todas las vacunas que su hijo necesita\, y son gratuitas. \nCómo conseguir una cita de vacunación para su hijo\n 1. Llamar al 844-644-3578 (NHHELPU). \n.2 Envíe una copia del registro completo de vacunas de su hijo a CommunityCruiser@NovantHealth.org o al 704-351-1703 antes de la fecha de su cita. \nSeleccione uno de los siguientes métodos para enviar registros\n • Envíe una copia del registro completo de vacunas de su hijo a CommunityCruiser@NovantHealth.org • Envíe una copia por mensaje de texto al 704-351-1703 \n• Envíe a nuestro fax seguro al 704- 316 -9451 \n• El envío de esta información por adelantado reducirá su tiempo de espera. \nEsto es lo que puede esperar\n • Sus hijos necesitarán un padre o tutor legal con ellos. \n• Traiga una copia del historial de vacunación de su hijo a la cita. \n• Los niños pueden recibir las vacunas si no tienen seguro\, tienen Medicaid o son elegibles para Medicaid. \n¡Ahora es un buen momento para vacunar a sus hijos por completo y ayudarlos a vivir la vida activa que se merecen!
URL:https://hispaniclatinogala.org/evento/obtenga-vacunas-gratis-para-sus-hijos/2024-11-20/
ATTACH;FMTTYPE=application/pdf:https://hispaniclatinogala.org/wp-content/uploads/2024/05/VACUNAS-NOVANT-HEALTH-spanish-flyer-3.pdf
ORGANIZER;CN="IWC":MAILTO:asanchez@mylac.org
END:VEVENT
BEGIN:VEVENT
DTSTART;TZID=America/New_York:20241126T130000
DTEND;TZID=America/New_York:20241126T150000
DTSTAMP:20260421T202003
CREATED:20240514T155738Z
LAST-MODIFIED:20250327T184339Z
UID:10000412-1732626000-1732633200@hispaniclatinogala.org
SUMMARY:"Taller de Fuerza Laboral
DESCRIPTION:APRENDERÁS SOBRE: \nDerechos laborales \nHerramientas para la búsqueda de trabajo \nBolsa de trabajo actualizada \nCreación de conexiones \nFecha:  Todos los martes de 1:00 PM – 3:00 PM \nSala: Centro Cultural Olma Echeverri
URL:https://hispaniclatinogala.org/evento/taller-de-fuerza-laboral/2024-11-26/
LOCATION:Oficinas de LAC\, 4938 Central Ave. Suite 101\, Charlotte\, NC\, 28205\, Estados Unidos
CATEGORIES:Educacional
ATTACH;FMTTYPE=image/jpeg:https://hispaniclatinogala.org/wp-content/uploads/2024/05/Image-3-e1736958480553.jpg
ORGANIZER;CN="EWC":MAILTO:info@mylac.org
END:VEVENT
END:VCALENDAR