BEGIN:VCALENDAR
VERSION:2.0
PRODID:-//La Coalicion - ECPv6.15.20//NONSGML v1.0//EN
CALSCALE:GREGORIAN
METHOD:PUBLISH
X-ORIGINAL-URL:https://hispaniclatinogala.org
X-WR-CALDESC:Events for La Coalicion
REFRESH-INTERVAL;VALUE=DURATION:PT1H
X-Robots-Tag:noindex
X-PUBLISHED-TTL:PT1H
BEGIN:VTIMEZONE
TZID:America/New_York
BEGIN:DAYLIGHT
TZOFFSETFROM:-0500
TZOFFSETTO:-0400
TZNAME:EDT
DTSTART:20230312T070000
END:DAYLIGHT
BEGIN:STANDARD
TZOFFSETFROM:-0400
TZOFFSETTO:-0500
TZNAME:EST
DTSTART:20231105T060000
END:STANDARD
BEGIN:DAYLIGHT
TZOFFSETFROM:-0500
TZOFFSETTO:-0400
TZNAME:EDT
DTSTART:20240310T070000
END:DAYLIGHT
BEGIN:STANDARD
TZOFFSETFROM:-0400
TZOFFSETTO:-0500
TZNAME:EST
DTSTART:20241103T060000
END:STANDARD
BEGIN:DAYLIGHT
TZOFFSETFROM:-0500
TZOFFSETTO:-0400
TZNAME:EDT
DTSTART:20250309T070000
END:DAYLIGHT
BEGIN:STANDARD
TZOFFSETFROM:-0400
TZOFFSETTO:-0500
TZNAME:EST
DTSTART:20251102T060000
END:STANDARD
END:VTIMEZONE
BEGIN:VEVENT
DTSTART;TZID=America/New_York:20241203T130000
DTEND;TZID=America/New_York:20241203T150000
DTSTAMP:20260421T220653
CREATED:20240514T155738Z
LAST-MODIFIED:20250327T184339Z
UID:10000413-1733230800-1733238000@hispaniclatinogala.org
SUMMARY:"Taller de Fuerza Laboral
DESCRIPTION:APRENDERÁS SOBRE: \nDerechos laborales \nHerramientas para la búsqueda de trabajo \nBolsa de trabajo actualizada \nCreación de conexiones \nFecha:  Todos los martes de 1:00 PM – 3:00 PM \nSala: Centro Cultural Olma Echeverri
URL:https://hispaniclatinogala.org/evento/taller-de-fuerza-laboral/2024-12-03/
LOCATION:Oficinas de LAC\, 4938 Central Ave. Suite 101\, Charlotte\, NC\, 28205\, Estados Unidos
CATEGORIES:Educacional
ATTACH;FMTTYPE=image/jpeg:https://hispaniclatinogala.org/wp-content/uploads/2024/05/Image-3-e1736958480553.jpg
ORGANIZER;CN="EWC":MAILTO:info@mylac.org
END:VEVENT
BEGIN:VEVENT
DTSTART;TZID=America/New_York:20241210T130000
DTEND;TZID=America/New_York:20241210T150000
DTSTAMP:20260421T220653
CREATED:20240514T155738Z
LAST-MODIFIED:20250327T184339Z
UID:10000414-1733835600-1733842800@hispaniclatinogala.org
SUMMARY:"Taller de Fuerza Laboral
DESCRIPTION:APRENDERÁS SOBRE: \nDerechos laborales \nHerramientas para la búsqueda de trabajo \nBolsa de trabajo actualizada \nCreación de conexiones \nFecha:  Todos los martes de 1:00 PM – 3:00 PM \nSala: Centro Cultural Olma Echeverri
URL:https://hispaniclatinogala.org/evento/taller-de-fuerza-laboral/2024-12-10/
LOCATION:Oficinas de LAC\, 4938 Central Ave. Suite 101\, Charlotte\, NC\, 28205\, Estados Unidos
CATEGORIES:Educacional
ATTACH;FMTTYPE=image/jpeg:https://hispaniclatinogala.org/wp-content/uploads/2024/05/Image-3-e1736958480553.jpg
ORGANIZER;CN="EWC":MAILTO:info@mylac.org
END:VEVENT
BEGIN:VEVENT
DTSTART;TZID=America/New_York:20241210T180000
DTEND;TZID=America/New_York:20241210T193000
DTSTAMP:20260421T220653
CREATED:20241206T201113Z
LAST-MODIFIED:20241206T201114Z
UID:10003713-1733853600-1733859000@hispaniclatinogala.org
SUMMARY:Join us in person
DESCRIPTION:Dec. 10\, 2024 | In-person | 6 – 7:30 pm \nUnderstanding the Tests Your Students Take \nMcClintock Middle School \n1925 Rama Rd. \nCharlotte\, NC 28212
URL:https://hispaniclatinogala.org/evento/join-us-in-person/
ATTACH;FMTTYPE=image/jpeg:https://hispaniclatinogala.org/wp-content/uploads/2024/12/ML-Session-at-CMS-Family-Academy.jpg
END:VEVENT
BEGIN:VEVENT
DTSTART;TZID=America/New_York:20241211T173000
DTEND;TZID=America/New_York:20241211T193000
DTSTAMP:20260421T220653
CREATED:20241206T201642Z
LAST-MODIFIED:20241206T201643Z
UID:10003714-1733938200-1733945400@hispaniclatinogala.org
SUMMARY:Taller de conocimientos básicos sobre dispositivos inteligentes para personas mayores
DESCRIPTION:La Coalición Latinoamericana lo invita a asistir a una clase de “Dispositivos inteligentes para personas mayores” en la que usted desarrollará sus \nhabilidades digitales y aprenderá a: \n\nProteger su identidad e información en línea\nUtilizar aplicaciones para acceder a transporte\, información médica y alimentos\nConectarse mejor en línea con amigos y familiares\n\nLe pedimos que lleve su propio dispositivo inteligente (teléfonos móviles\, tabletas\, etc.). Para participar en una de las sesiones\, confirme su asistencia por correo electrónico con Ana Rodriguez en ewcassociate@mylac.org
URL:https://hispaniclatinogala.org/evento/taller-de-conocimientos-basicos-sobre-dispositivos-inteligentes-para-personas-mayores/2024-12-11/
LOCATION:Oficinas de LAC\, 4938 Central Ave. Suite 101\, Charlotte\, NC\, 28205\, Estados Unidos
ATTACH;FMTTYPE=image/jpeg:https://hispaniclatinogala.org/wp-content/uploads/2024/12/EWC_WorkshopDecember_11-12_anonymous.jpg
ORGANIZER;CN="Latin American Coalition":MAILTO:info@mylac.org
END:VEVENT
BEGIN:VEVENT
DTSTART;TZID=America/New_York:20241212T113000
DTEND;TZID=America/New_York:20241212T133000
DTSTAMP:20260421T220653
CREATED:20241206T201642Z
LAST-MODIFIED:20241206T201643Z
UID:10003715-1734003000-1734010200@hispaniclatinogala.org
SUMMARY:Taller de conocimientos básicos sobre dispositivos inteligentes para personas mayores
DESCRIPTION:La Coalición Latinoamericana lo invita a asistir a una clase de “Dispositivos inteligentes para personas mayores” en la que usted desarrollará sus \nhabilidades digitales y aprenderá a: \n\nProteger su identidad e información en línea\nUtilizar aplicaciones para acceder a transporte\, información médica y alimentos\nConectarse mejor en línea con amigos y familiares\n\nLe pedimos que lleve su propio dispositivo inteligente (teléfonos móviles\, tabletas\, etc.). Para participar en una de las sesiones\, confirme su asistencia por correo electrónico con Ana Rodriguez en ewcassociate@mylac.org
URL:https://hispaniclatinogala.org/evento/taller-de-conocimientos-basicos-sobre-dispositivos-inteligentes-para-personas-mayores/2024-12-12/
LOCATION:Oficinas de LAC\, 4938 Central Ave. Suite 101\, Charlotte\, NC\, 28205\, Estados Unidos
ATTACH;FMTTYPE=image/jpeg:https://hispaniclatinogala.org/wp-content/uploads/2024/12/EWC_WorkshopDecember_11-12_anonymous.jpg
ORGANIZER;CN="Latin American Coalition":MAILTO:info@mylac.org
END:VEVENT
BEGIN:VEVENT
DTSTART;TZID=America/New_York:20241217T130000
DTEND;TZID=America/New_York:20241217T150000
DTSTAMP:20260421T220653
CREATED:20240514T155738Z
LAST-MODIFIED:20250327T184339Z
UID:10000415-1734440400-1734447600@hispaniclatinogala.org
SUMMARY:"Taller de Fuerza Laboral
DESCRIPTION:APRENDERÁS SOBRE: \nDerechos laborales \nHerramientas para la búsqueda de trabajo \nBolsa de trabajo actualizada \nCreación de conexiones \nFecha:  Todos los martes de 1:00 PM – 3:00 PM \nSala: Centro Cultural Olma Echeverri
URL:https://hispaniclatinogala.org/evento/taller-de-fuerza-laboral/2024-12-17/
LOCATION:Oficinas de LAC\, 4938 Central Ave. Suite 101\, Charlotte\, NC\, 28205\, Estados Unidos
CATEGORIES:Educacional
ATTACH;FMTTYPE=image/jpeg:https://hispaniclatinogala.org/wp-content/uploads/2024/05/Image-3-e1736958480553.jpg
ORGANIZER;CN="EWC":MAILTO:info@mylac.org
END:VEVENT
BEGIN:VEVENT
DTSTART;TZID=America/New_York:20241218T083000
DTEND;TZID=America/New_York:20241218T153000
DTSTAMP:20260421T220653
CREATED:20240516T162832Z
LAST-MODIFIED:20250327T184446Z
UID:10000713-1734510600-1734535800@hispaniclatinogala.org
SUMMARY:Obtenga vacunas gratis para sus hijo(s).
DESCRIPTION:Regístrese hoy para vacunar a sus hijos en nuestro\n\n Su hijo merece una vida sana y activa\, y vacunarse en Novant Health Community Care Cruiser es un gran primer paso! Ofrecemos vacunas a niños desde el nacimiento hasta los 81 años que no tienen seguro\, tienen Medicaid o son elegibles para Medicaid. Puede inscribirse para todas las vacunas que su hijo necesita\, y son gratuitas. \nCómo conseguir una cita de vacunación para su hijo\n 1. Llamar al 844-644-3578 (NHHELPU). \n.2 Envíe una copia del registro completo de vacunas de su hijo a CommunityCruiser@NovantHealth.org o al 704-351-1703 antes de la fecha de su cita. \nSeleccione uno de los siguientes métodos para enviar registros\n • Envíe una copia del registro completo de vacunas de su hijo a CommunityCruiser@NovantHealth.org • Envíe una copia por mensaje de texto al 704-351-1703 \n• Envíe a nuestro fax seguro al 704- 316 -9451 \n• El envío de esta información por adelantado reducirá su tiempo de espera. \nEsto es lo que puede esperar\n • Sus hijos necesitarán un padre o tutor legal con ellos. \n• Traiga una copia del historial de vacunación de su hijo a la cita. \n• Los niños pueden recibir las vacunas si no tienen seguro\, tienen Medicaid o son elegibles para Medicaid. \n¡Ahora es un buen momento para vacunar a sus hijos por completo y ayudarlos a vivir la vida activa que se merecen!
URL:https://hispaniclatinogala.org/evento/obtenga-vacunas-gratis-para-sus-hijos/2024-12-18/
ATTACH;FMTTYPE=application/pdf:https://hispaniclatinogala.org/wp-content/uploads/2024/05/VACUNAS-NOVANT-HEALTH-spanish-flyer-3.pdf
ORGANIZER;CN="IWC":MAILTO:asanchez@mylac.org
END:VEVENT
BEGIN:VEVENT
DTSTART;TZID=America/New_York:20241218T173000
DTEND;TZID=America/New_York:20241218T200000
DTSTAMP:20260421T220653
CREATED:20241206T200343Z
LAST-MODIFIED:20241206T200343Z
UID:10003711-1734543000-1734552000@hispaniclatinogala.org
SUMMARY:CELEBRACIÓN NAVIDEÑA con suenas finanzas
DESCRIPTION:Celebra Navidad y construye tu futuro financiero. \nRevisión de \nreporte \nde crédito gratis \nTendremos: \n\nRecursos para mejorar tus finanzas\n\n\nManualidades para niños\nBailes con Criss\, Cross Mangosauce\nToma y llévate tu foto con Santa Claus\n\nTe esperamos en: \nLa Coalición Latinoamericana. 4938 Central Ave. \nRegístrate para asegurar tu espacio y refrigerio.
URL:https://hispaniclatinogala.org/evento/celebracion-navidena-con-suenas-finanzas/
LOCATION:Oficinas de LAC\, 4938 Central Ave. Suite 101\, Charlotte\, NC\, 28205\, Estados Unidos
ATTACH;FMTTYPE=image/png:https://hispaniclatinogala.org/wp-content/uploads/2024/12/CelebNavid-BF-2024_anonymous.png
ORGANIZER;CN="Latin American Coalition":MAILTO:info@mylac.org
END:VEVENT
BEGIN:VEVENT
DTSTART;TZID=America/New_York:20241219T173000
DTEND;TZID=America/New_York:20241219T200000
DTSTAMP:20260421T220653
CREATED:20241206T200706Z
LAST-MODIFIED:20241206T200706Z
UID:10003712-1734629400-1734638400@hispaniclatinogala.org
SUMMARY:CÓMO INICIAR UN NEGOCIO DE LIMPIEZA
DESCRIPTION:Como iniciar un negocio de limpieza\nFecha: Jueves\, 19 de Diciembre 2024\nHorario: 5:30 PM – 7:30 PM\nPresencial en la Coalición -4938 Central Ave\, Charlotte\, NC 28205 –
URL:https://hispaniclatinogala.org/evento/como-iniciar-un-negocio-de-limpieza/
LOCATION:Oficinas de LAC\, 4938 Central Ave. Suite 101\, Charlotte\, NC\, 28205\, Estados Unidos
ATTACH;FMTTYPE=image/jpeg:https://hispaniclatinogala.org/wp-content/uploads/2024/12/Prospera-BUSLimpiesa-12-19-2024_anonymous.jpg
ORGANIZER;CN="Latin American Coalition":MAILTO:info@mylac.org
END:VEVENT
BEGIN:VEVENT
DTSTART;TZID=America/New_York:20241224T130000
DTEND;TZID=America/New_York:20241224T150000
DTSTAMP:20260421T220653
CREATED:20240514T155738Z
LAST-MODIFIED:20250327T184339Z
UID:10000416-1735045200-1735052400@hispaniclatinogala.org
SUMMARY:"Taller de Fuerza Laboral
DESCRIPTION:APRENDERÁS SOBRE: \nDerechos laborales \nHerramientas para la búsqueda de trabajo \nBolsa de trabajo actualizada \nCreación de conexiones \nFecha:  Todos los martes de 1:00 PM – 3:00 PM \nSala: Centro Cultural Olma Echeverri
URL:https://hispaniclatinogala.org/evento/taller-de-fuerza-laboral/2024-12-24/
LOCATION:Oficinas de LAC\, 4938 Central Ave. Suite 101\, Charlotte\, NC\, 28205\, Estados Unidos
CATEGORIES:Educacional
ATTACH;FMTTYPE=image/jpeg:https://hispaniclatinogala.org/wp-content/uploads/2024/05/Image-3-e1736958480553.jpg
ORGANIZER;CN="EWC":MAILTO:info@mylac.org
END:VEVENT
BEGIN:VEVENT
DTSTART;TZID=America/New_York:20241231T130000
DTEND;TZID=America/New_York:20241231T150000
DTSTAMP:20260421T220653
CREATED:20240514T155738Z
LAST-MODIFIED:20250327T184339Z
UID:10000417-1735650000-1735657200@hispaniclatinogala.org
SUMMARY:"Taller de Fuerza Laboral
DESCRIPTION:APRENDERÁS SOBRE: \nDerechos laborales \nHerramientas para la búsqueda de trabajo \nBolsa de trabajo actualizada \nCreación de conexiones \nFecha:  Todos los martes de 1:00 PM – 3:00 PM \nSala: Centro Cultural Olma Echeverri
URL:https://hispaniclatinogala.org/evento/taller-de-fuerza-laboral/2024-12-31/
LOCATION:Oficinas de LAC\, 4938 Central Ave. Suite 101\, Charlotte\, NC\, 28205\, Estados Unidos
CATEGORIES:Educacional
ATTACH;FMTTYPE=image/jpeg:https://hispaniclatinogala.org/wp-content/uploads/2024/05/Image-3-e1736958480553.jpg
ORGANIZER;CN="EWC":MAILTO:info@mylac.org
END:VEVENT
END:VCALENDAR