BEGIN:VCALENDAR
VERSION:2.0
PRODID:-//La Coalicion - ECPv6.15.20//NONSGML v1.0//EN
CALSCALE:GREGORIAN
METHOD:PUBLISH
X-WR-CALNAME:La Coalicion
X-ORIGINAL-URL:https://hispaniclatinogala.org
X-WR-CALDESC:Events for La Coalicion
REFRESH-INTERVAL;VALUE=DURATION:PT1H
X-Robots-Tag:noindex
X-PUBLISHED-TTL:PT1H
BEGIN:VTIMEZONE
TZID:America/New_York
BEGIN:DAYLIGHT
TZOFFSETFROM:-0500
TZOFFSETTO:-0400
TZNAME:EDT
DTSTART:20220313T070000
END:DAYLIGHT
BEGIN:STANDARD
TZOFFSETFROM:-0400
TZOFFSETTO:-0500
TZNAME:EST
DTSTART:20221106T060000
END:STANDARD
BEGIN:DAYLIGHT
TZOFFSETFROM:-0500
TZOFFSETTO:-0400
TZNAME:EDT
DTSTART:20230312T070000
END:DAYLIGHT
BEGIN:STANDARD
TZOFFSETFROM:-0400
TZOFFSETTO:-0500
TZNAME:EST
DTSTART:20231105T060000
END:STANDARD
BEGIN:DAYLIGHT
TZOFFSETFROM:-0500
TZOFFSETTO:-0400
TZNAME:EDT
DTSTART:20240310T070000
END:DAYLIGHT
BEGIN:STANDARD
TZOFFSETFROM:-0400
TZOFFSETTO:-0500
TZNAME:EST
DTSTART:20241103T060000
END:STANDARD
END:VTIMEZONE
BEGIN:VEVENT
DTSTART;TZID=America/New_York:20231017T180000
DTEND;TZID=America/New_York:20231017T190000
DTSTAMP:20260421T172847
CREATED:20231016T183623Z
LAST-MODIFIED:20231016T185337Z
UID:10000016-1697565600-1697569200@hispaniclatinogala.org
SUMMARY:CONVIÉRTETE EN UNA GIRL SCOUT
DESCRIPTION:📌¡Te invitamos a formar parte de la nueva tropa de @girlscoutshnc 🕯️! \n🌸¿Te gustaría hacer un altar para nuestra celebración del Día de Muertos? Acompáñanos a mantener viva esta hermosa tradición con nuestra tropa. 📣 \n🔗 Regístrate haciendo click en el link de la biografía\n🗓️ CUÁNDO: 17 de octubre\n✅ Para niñas de #kinder al 12° grado\n🕡 Hora: 6 PM hasta las 7 PM\n📍 Lugar: Latin American Coalition (4938 Central Ave. # 1\, Charlotte\, NC 28205).
URL:https://hispaniclatinogala.org/evento/conviertete-en-una-girl-scout/
LOCATION:Oficinas de LAC\, 4938 Central Ave. Suite 101\, Charlotte\, NC\, 28205\, Estados Unidos
CATEGORIES:Evento Cultural
ATTACH;FMTTYPE=image/jpeg:https://hispaniclatinogala.org/wp-content/uploads/2023/10/GS-10.17.jpg
ORGANIZER;CN="Latin American Coalition":MAILTO:info@mylac.org
END:VEVENT
BEGIN:VEVENT
DTSTART;TZID=America/New_York:20231019T180000
DTEND;TZID=America/New_York:20231019T190000
DTSTAMP:20260421T172847
CREATED:20231018T195118Z
LAST-MODIFIED:20231018T195835Z
UID:10000018-1697738400-1697742000@hispaniclatinogala.org
SUMMARY:¡DESCUBRE EL MUNDO DE ÁCIDOS Y BASES!
DESCRIPTION:Crea tu indicador de PH y experimenta con coloridos cambios en la Col Repollo Rojo \nEdades de 8 – 14 añois\nEvento gratuito
URL:https://hispaniclatinogala.org/evento/descubre-el-mundo-de-acidos-y-bases/
LOCATION:Oficinas de LAC\, 4938 Central Ave. Suite 101\, Charlotte\, NC\, 28205\, Estados Unidos
CATEGORIES:Evento Cultural
ATTACH;FMTTYPE=image/jpeg:https://hispaniclatinogala.org/wp-content/uploads/2023/10/MicrosoftTeams-image-9-1.jpg
ORGANIZER;CN="Latin American Coalition":MAILTO:info@mylac.org
END:VEVENT
END:VCALENDAR