BEGIN:VCALENDAR
VERSION:2.0
PRODID:-//La Coalicion - ECPv6.15.20//NONSGML v1.0//EN
CALSCALE:GREGORIAN
METHOD:PUBLISH
X-ORIGINAL-URL:https://hispaniclatinogala.org
X-WR-CALDESC:Events for La Coalicion
REFRESH-INTERVAL;VALUE=DURATION:PT1H
X-Robots-Tag:noindex
X-PUBLISHED-TTL:PT1H
BEGIN:VTIMEZONE
TZID:America/New_York
BEGIN:DAYLIGHT
TZOFFSETFROM:-0500
TZOFFSETTO:-0400
TZNAME:EDT
DTSTART:20230312T070000
END:DAYLIGHT
BEGIN:STANDARD
TZOFFSETFROM:-0400
TZOFFSETTO:-0500
TZNAME:EST
DTSTART:20231105T060000
END:STANDARD
BEGIN:DAYLIGHT
TZOFFSETFROM:-0500
TZOFFSETTO:-0400
TZNAME:EDT
DTSTART:20240310T070000
END:DAYLIGHT
BEGIN:STANDARD
TZOFFSETFROM:-0400
TZOFFSETTO:-0500
TZNAME:EST
DTSTART:20241103T060000
END:STANDARD
BEGIN:DAYLIGHT
TZOFFSETFROM:-0500
TZOFFSETTO:-0400
TZNAME:EDT
DTSTART:20250309T070000
END:DAYLIGHT
BEGIN:STANDARD
TZOFFSETFROM:-0400
TZOFFSETTO:-0500
TZNAME:EST
DTSTART:20251102T060000
END:STANDARD
END:VTIMEZONE
BEGIN:VEVENT
DTSTART;TZID=America/New_York:20240116T100000
DTEND;TZID=America/New_York:20240116T120000
DTSTAMP:20260421T155252
CREATED:20240110T203051Z
LAST-MODIFIED:20240111T181314Z
UID:10000049-1705399200-1705406400@hispaniclatinogala.org
SUMMARY:Curso de Computación
DESCRIPTION:Fechas: \n\nMartes: 16 y 23 de Enero 2024\nJueves: 18 y 25 de Enero 2024.\n\nHorario: \n• 10 am. a 12 pm. \nDuración: \n• 4 sesiones \nAprende nuevas habilidades \nCONTENIDO: \n\nHabilidades básicas de computación.\nCómo usar internet de manera segura.\nRedes sociales.\nGoogle y uso de apliaciones.\n\n(Drive\, Gmail\, Meet\, Docs\, Sheets\,YouTube) \nAL FINALIZAR EL CURSO RECIBIRÁS UNA LAPTOP GRATIS
URL:https://hispaniclatinogala.org/evento/curso-de-computacion/
LOCATION:Oficinas de LAC\, 4938 Central Ave. Suite 101\, Charlotte\, NC\, 28205\, Estados Unidos
CATEGORIES:Educacional
ATTACH;FMTTYPE=image/jpeg:https://hispaniclatinogala.org/wp-content/uploads/2024/01/MicrosoftTeams-image-17.jpg
ORGANIZER;CN="Latin American Coalition":MAILTO:info@mylac.org
END:VEVENT
BEGIN:VEVENT
DTSTART;TZID=America/New_York:20240117T180000
DTEND;TZID=America/New_York:20240117T190000
DTSTAMP:20260421T155252
CREATED:20240110T200530Z
LAST-MODIFIED:20240111T182111Z
UID:10000025-1705514400-1705518000@hispaniclatinogala.org
SUMMARY:Fortalece tu Valor
DESCRIPTION:¡Padres y adolescentes\, los esperamos en nuestro club de valor!\n\n\n Fecha: 17 de enero\n Hora: 6:00 a 7:00 pm\n\n Dirección: Latin American Coalition – 4938 Central Ave\, Charlotte\, NC 28205 \n \n\n\n\nAdolescentes:\n– Gana horas de voluntariado\n– Entrada VIP a la Cumbre de jóvenes en Carowinds\n– Obtén la oportunidad de ganar la Beca “Above and Beyond theCall of Duty” (ABCD)\n– Trae a tus padres para las clases de padres\n\n\nPadres:\n\n\n– Fortalece relaciones familiares\n– Experiencia de aprendizaje en conjunto con tu adolescente\n– ¡Acceso a recursos valiosos!\n\n\n\nNo se pierdan esta gran oportunidad\, para más información contacta yec@mylac.org \nLink de Registro aquí
URL:https://hispaniclatinogala.org/evento/fortalece-tu-valor/
LOCATION:Oficinas de LAC\, 4938 Central Ave. Suite 101\, Charlotte\, NC\, 28205\, Estados Unidos
CATEGORIES:Educacional
ATTACH;FMTTYPE=image/jpeg:https://hispaniclatinogala.org/wp-content/uploads/2024/01/Image-3.jpg
ORGANIZER;CN="YEC":MAILTO:yec@mylac.org
END:VEVENT
BEGIN:VEVENT
DTSTART;TZID=America/New_York:20240118T180000
DTEND;TZID=America/New_York:20240118T190000
DTSTAMP:20260421T155252
CREATED:20240111T165343Z
LAST-MODIFIED:20240111T171413Z
UID:10000312-1705600800-1705604400@hispaniclatinogala.org
SUMMARY:¡Aprende de Algoritmos!
DESCRIPTION:📅 Fecha: 18 de enero \n🕕 Hora: 6:00 PM – 7:00 PM \n🏛️ Lugar: Coalición Latinoamericana (LAC) – 4938 Central Ave\, Charlotte NC 28205 \n👩‍🔬 Edad recomendada: 8-14 años \nLink de registro
URL:https://hispaniclatinogala.org/evento/aprende-de-algoritmos/
LOCATION:Oficinas de LAC\, 4938 Central Ave. Suite 101\, Charlotte\, NC\, 28205\, Estados Unidos
CATEGORIES:Educacional
ATTACH;FMTTYPE=image/jpeg:https://hispaniclatinogala.org/wp-content/uploads/2024/01/SPAN-2.jpg
ORGANIZER;CN="Latin American Coalition":MAILTO:info@mylac.org
END:VEVENT
END:VCALENDAR