BEGIN:VCALENDAR
VERSION:2.0
PRODID:-//La Coalicion - ECPv6.15.20//NONSGML v1.0//EN
CALSCALE:GREGORIAN
METHOD:PUBLISH
X-ORIGINAL-URL:https://hispaniclatinogala.org
X-WR-CALDESC:Events for La Coalicion
REFRESH-INTERVAL;VALUE=DURATION:PT1H
X-Robots-Tag:noindex
X-PUBLISHED-TTL:PT1H
BEGIN:VTIMEZONE
TZID:America/New_York
BEGIN:DAYLIGHT
TZOFFSETFROM:-0500
TZOFFSETTO:-0400
TZNAME:EDT
DTSTART:20230312T070000
END:DAYLIGHT
BEGIN:STANDARD
TZOFFSETFROM:-0400
TZOFFSETTO:-0500
TZNAME:EST
DTSTART:20231105T060000
END:STANDARD
BEGIN:DAYLIGHT
TZOFFSETFROM:-0500
TZOFFSETTO:-0400
TZNAME:EDT
DTSTART:20240310T070000
END:DAYLIGHT
BEGIN:STANDARD
TZOFFSETFROM:-0400
TZOFFSETTO:-0500
TZNAME:EST
DTSTART:20241103T060000
END:STANDARD
BEGIN:DAYLIGHT
TZOFFSETFROM:-0500
TZOFFSETTO:-0400
TZNAME:EDT
DTSTART:20250309T070000
END:DAYLIGHT
BEGIN:STANDARD
TZOFFSETFROM:-0400
TZOFFSETTO:-0500
TZNAME:EST
DTSTART:20251102T060000
END:STANDARD
END:VTIMEZONE
BEGIN:VEVENT
DTSTART;TZID=America/New_York:20240425T123000
DTEND;TZID=America/New_York:20240425T153000
DTSTAMP:20260421T074502
CREATED:20240201T125653Z
LAST-MODIFIED:20240202T162829Z
UID:10000329-1714048200-1714059000@hispaniclatinogala.org
SUMMARY:ID Cominutario
DESCRIPTION:Regístrate y obtén tu ID comunitario en La Coalición \nEl ID comunitario es una tarjeta especialmente beneficiosa para aquellos que no poseen ningún tipo de identificación en este país. Emitida por LAC\, el ID comunitario es un privilegio exclusivo para nuestros miembros y está diseñado para facilitar y mejorar su participación en diversos aspectos de la vida cotidiana. \nConoce más de los beneficios que puedes disfrutar aquí \n\n¡Te animamos a solicitado tu ID comunitario\, te invitamos a registrarte enviando un correo electrónico a info@mylac.org o llamando al 704 5313848.\n\nEstamos aquí para ayudarte en el proceso y asegurarnos de que aproveches al máximo tu membresía en LAC.\n¡Aplica aquí para obtener el ID comunitario! \n12:30 PM a 3:30 pm en LAC Departamento IWC
URL:https://hispaniclatinogala.org/evento/id-cominutario-2/2024-04-25/
LOCATION:Oficinas de LAC\, 4938 Central Ave. Suite 101\, Charlotte\, NC\, 28205\, Estados Unidos
ATTACH;FMTTYPE=image/jpeg:https://hispaniclatinogala.org/wp-content/uploads/2024/02/MicrosoftTeams-image-19.jpg
ORGANIZER;CN="IWC":MAILTO:asanchez@mylac.org
END:VEVENT
BEGIN:VEVENT
DTSTART;VALUE=DATE:20240427
DTEND;VALUE=DATE:20240428
DTSTAMP:20260421T074502
CREATED:20240406T002244Z
LAST-MODIFIED:20240406T002244Z
UID:10000362-1714176000-1714262399@hispaniclatinogala.org
SUMMARY:Exposicion Mint Museum 27 de Abril
DESCRIPTION:¡Atención a todos los amantes del arte en nuestra comunidad! El Mint Museum se complace en anunciar que tendremos dos nuevas exposiciones que se inaugurarán en nuestra ubicación de Mint Randolph a finales de este mes. Las exposiciones serán de entrada gratuita para el público los días 27 y 28 de abril. Les pedimos que compartan esta información con sus miembros.\n\nLas exposiciones que presentaremos son “Objetos de Afecto” y “Shinichi Sawada”. ¡No se pierdan esta oportunidad de sumergirse en el mundo del arte! Para obtener más detalles\, pueden visitar nuestro sitio web en https://www.mintmuseum.org/exhibitions/?type=upcoming. ¡Esperamos verlos allí!
URL:https://hispaniclatinogala.org/evento/exposicion-mint-museum-27-de-abril/
ATTACH;FMTTYPE=image/jpeg:https://hispaniclatinogala.org/wp-content/uploads/2024/04/mint-m.jpg
ORGANIZER;CN="Latin American Coalition":MAILTO:info@mylac.org
END:VEVENT
END:VCALENDAR