BEGIN:VCALENDAR
VERSION:2.0
PRODID:-//La Coalicion - ECPv6.15.20//NONSGML v1.0//EN
CALSCALE:GREGORIAN
METHOD:PUBLISH
X-ORIGINAL-URL:https://hispaniclatinogala.org
X-WR-CALDESC:Events for La Coalicion
REFRESH-INTERVAL;VALUE=DURATION:PT1H
X-Robots-Tag:noindex
X-PUBLISHED-TTL:PT1H
BEGIN:VTIMEZONE
TZID:America/New_York
BEGIN:DAYLIGHT
TZOFFSETFROM:-0500
TZOFFSETTO:-0400
TZNAME:EDT
DTSTART:20230312T070000
END:DAYLIGHT
BEGIN:STANDARD
TZOFFSETFROM:-0400
TZOFFSETTO:-0500
TZNAME:EST
DTSTART:20231105T060000
END:STANDARD
BEGIN:DAYLIGHT
TZOFFSETFROM:-0500
TZOFFSETTO:-0400
TZNAME:EDT
DTSTART:20240310T070000
END:DAYLIGHT
BEGIN:STANDARD
TZOFFSETFROM:-0400
TZOFFSETTO:-0500
TZNAME:EST
DTSTART:20241103T060000
END:STANDARD
BEGIN:DAYLIGHT
TZOFFSETFROM:-0500
TZOFFSETTO:-0400
TZNAME:EDT
DTSTART:20250309T070000
END:DAYLIGHT
BEGIN:STANDARD
TZOFFSETFROM:-0400
TZOFFSETTO:-0500
TZNAME:EST
DTSTART:20251102T060000
END:STANDARD
END:VTIMEZONE
BEGIN:VEVENT
DTSTART;TZID=America/New_York:20240715T110000
DTEND;TZID=America/New_York:20240715T130000
DTSTAMP:20260421T190429
CREATED:20240711T151205Z
LAST-MODIFIED:20240712T183946Z
UID:10001325-1721041200-1721048400@hispaniclatinogala.org
SUMMARY:SESIÓN INFORMATIVA PRESENCIAL OPORTUNIDAD DE CARRERA HEALTHCARE SPANISH MEDICAL INTERPRETER CERTIFICATION
DESCRIPTION:El intérprete medico Ingles- Español brinda acceso de comunicación\, atención y servicios a las personas de habla hispana.\nInformaremos sobre certificaciones y licencias que pueden mejorar sus oportunidades laborales con énfasis en como iniciar una carrera en el área de salud para nuestra comunidad.\nSolo requiere nivel básico de inglés\n\n¡Mejora tus habilidades!\, será Impartido por el departamento Económico y Desarrollo de la Fuerza Laboral de Latin American Coalition\, Atrium Health y CPCC para nuestra comunidad. \nTema: Intérprete Medico- Healthcare Spanish Medical Interpreter Certification\nFecha: Lunes 15 de Julio 2024\nHorario: 11:00 am.\nPresencial en CPCC Levine Campus room 3502 2800 Campus Ridge Rd Suite 1113\, Matthews\, NC 28105\nRegistrate usando el link: https://forms.office.com/r/ZJfcxUMSL5\nContacto: ewcassociate@mylac.org 980-320-3741
URL:https://hispaniclatinogala.org/evento/sesion-informativa-presencial-oportunidad-de-carrera-healthcare-spanish-medical-interpreter-certification/
CATEGORIES:Educacional
ATTACH;FMTTYPE=image/jpeg:https://hispaniclatinogala.org/wp-content/uploads/2024/07/EWC-SesionInformativa-Medical-Interprete07_15_anonymous.jpg
ORGANIZER;CN="EWC":MAILTO:info@mylac.org
END:VEVENT
BEGIN:VEVENT
DTSTART;TZID=America/New_York:20240716T130000
DTEND;TZID=America/New_York:20240716T150000
DTSTAMP:20260421T190429
CREATED:20240514T155738Z
LAST-MODIFIED:20250327T184339Z
UID:10000393-1721134800-1721142000@hispaniclatinogala.org
SUMMARY:"Taller de Fuerza Laboral
DESCRIPTION:APRENDERÁS SOBRE: \nDerechos laborales \nHerramientas para la búsqueda de trabajo \nBolsa de trabajo actualizada \nCreación de conexiones \nFecha:  Todos los martes de 1:00 PM – 3:00 PM \nSala: Centro Cultural Olma Echeverri
URL:https://hispaniclatinogala.org/evento/taller-de-fuerza-laboral/2024-07-16/
LOCATION:Oficinas de LAC\, 4938 Central Ave. Suite 101\, Charlotte\, NC\, 28205\, Estados Unidos
CATEGORIES:Educacional
ATTACH;FMTTYPE=image/jpeg:https://hispaniclatinogala.org/wp-content/uploads/2024/05/Image-3-e1736958480553.jpg
ORGANIZER;CN="EWC":MAILTO:info@mylac.org
END:VEVENT
BEGIN:VEVENT
DTSTART;TZID=America/New_York:20240716T150000
DTEND;TZID=America/New_York:20240716T180000
DTSTAMP:20260421T190429
CREATED:20240711T153747Z
LAST-MODIFIED:20240711T153825Z
UID:10001327-1721142000-1721152800@hispaniclatinogala.org
SUMMARY: ¡Llamada para todos los fanáticos del fútbol!
DESCRIPTION: ¡No te pierdas los beneficios de ser miembro de la Coalición!  \nÚnete a nosotros y disfruta de increíbles ofertas como esta\, apoyando a nuestro equipo local Charlotte FC. \n¿Qué esperas para unirte? \n¡Haz clic en el enlace de nuestra biografía y sé parte de esta gran familia! \nY si ya eres miembro\, revisa tu correo para recibir el enlace. Si aún no lo has recibido\, envíanos un correo ????al: membershiplac@mylac.org
URL:https://hispaniclatinogala.org/evento/llamada-para-todos-los-fanaticos-del-futbol/2024-07-16/
END:VEVENT
BEGIN:VEVENT
DTSTART;TZID=America/New_York:20240717T083000
DTEND;TZID=America/New_York:20240717T153000
DTSTAMP:20260421T190429
CREATED:20240516T162832Z
LAST-MODIFIED:20250327T184446Z
UID:10000708-1721205000-1721230200@hispaniclatinogala.org
SUMMARY:Obtenga vacunas gratis para sus hijo(s).
DESCRIPTION:Regístrese hoy para vacunar a sus hijos en nuestro\n\n Su hijo merece una vida sana y activa\, y vacunarse en Novant Health Community Care Cruiser es un gran primer paso! Ofrecemos vacunas a niños desde el nacimiento hasta los 81 años que no tienen seguro\, tienen Medicaid o son elegibles para Medicaid. Puede inscribirse para todas las vacunas que su hijo necesita\, y son gratuitas. \nCómo conseguir una cita de vacunación para su hijo\n 1. Llamar al 844-644-3578 (NHHELPU). \n.2 Envíe una copia del registro completo de vacunas de su hijo a CommunityCruiser@NovantHealth.org o al 704-351-1703 antes de la fecha de su cita. \nSeleccione uno de los siguientes métodos para enviar registros\n • Envíe una copia del registro completo de vacunas de su hijo a CommunityCruiser@NovantHealth.org • Envíe una copia por mensaje de texto al 704-351-1703 \n• Envíe a nuestro fax seguro al 704- 316 -9451 \n• El envío de esta información por adelantado reducirá su tiempo de espera. \nEsto es lo que puede esperar\n • Sus hijos necesitarán un padre o tutor legal con ellos. \n• Traiga una copia del historial de vacunación de su hijo a la cita. \n• Los niños pueden recibir las vacunas si no tienen seguro\, tienen Medicaid o son elegibles para Medicaid. \n¡Ahora es un buen momento para vacunar a sus hijos por completo y ayudarlos a vivir la vida activa que se merecen!
URL:https://hispaniclatinogala.org/evento/obtenga-vacunas-gratis-para-sus-hijos/2024-07-17/
ATTACH;FMTTYPE=application/pdf:https://hispaniclatinogala.org/wp-content/uploads/2024/05/VACUNAS-NOVANT-HEALTH-spanish-flyer-3.pdf
ORGANIZER;CN="IWC":MAILTO:asanchez@mylac.org
END:VEVENT
BEGIN:VEVENT
DTSTART;TZID=America/New_York:20240718T150000
DTEND;TZID=America/New_York:20240718T180000
DTSTAMP:20260421T190429
CREATED:20240711T153747Z
LAST-MODIFIED:20240711T153825Z
UID:10001328-1721314800-1721325600@hispaniclatinogala.org
SUMMARY: ¡Llamada para todos los fanáticos del fútbol!
DESCRIPTION: ¡No te pierdas los beneficios de ser miembro de la Coalición!  \nÚnete a nosotros y disfruta de increíbles ofertas como esta\, apoyando a nuestro equipo local Charlotte FC. \n¿Qué esperas para unirte? \n¡Haz clic en el enlace de nuestra biografía y sé parte de esta gran familia! \nY si ya eres miembro\, revisa tu correo para recibir el enlace. Si aún no lo has recibido\, envíanos un correo ????al: membershiplac@mylac.org
URL:https://hispaniclatinogala.org/evento/llamada-para-todos-los-fanaticos-del-futbol/2024-07-18/
END:VEVENT
BEGIN:VEVENT
DTSTART;TZID=America/New_York:20240720T110000
DTEND;TZID=America/New_York:20240720T230000
DTSTAMP:20260421T190429
CREATED:20240716T111228Z
LAST-MODIFIED:20240717T024221Z
UID:10001330-1721473200-1721516400@hispaniclatinogala.org
SUMMARY:Festival Colombiano
DESCRIPTION:Participación de la Coalición Latinoamericana\nFecha: Sábado\, 20 de julio Hora: Desde las 11:00 a.m.\nLugar: 5650 Sandusky Blvd\, Concord\, NC 28027\nDescripción del evento: La Coalición Latinoamericana invita a toda la comunidad de Charlotte a asistir al Festival Colombiano. Este evento contará con la presencia de importantes figuras de la música colombiana y promete ser una experiencia cultural inolvidable.Nosotros estaremos participando activamente en el festival\, brindando información sobre nuestra organización y ofreciendo sorpresas para aquellos que visiten nuestro tent.\nEntradas: Las entradas están disponibles para su compra a través del siguiente enlace: https://www.tickeri.com/events/cm2ge8h0wsbn/festival-colombiano
URL:https://hispaniclatinogala.org/evento/festival-colombiano/
CATEGORIES:Evento Cultural
ATTACH;FMTTYPE=image/jpeg:https://hispaniclatinogala.org/wp-content/uploads/2024/07/Media.jpeg
END:VEVENT
END:VCALENDAR