BEGIN:VCALENDAR
VERSION:2.0
PRODID:-//La Coalicion - ECPv6.15.20//NONSGML v1.0//EN
CALSCALE:GREGORIAN
METHOD:PUBLISH
X-WR-CALNAME:La Coalicion
X-ORIGINAL-URL:https://hispaniclatinogala.org
X-WR-CALDESC:Events for La Coalicion
REFRESH-INTERVAL;VALUE=DURATION:PT1H
X-Robots-Tag:noindex
X-PUBLISHED-TTL:PT1H
BEGIN:VTIMEZONE
TZID:America/New_York
BEGIN:DAYLIGHT
TZOFFSETFROM:-0500
TZOFFSETTO:-0400
TZNAME:EDT
DTSTART:20230312T070000
END:DAYLIGHT
BEGIN:STANDARD
TZOFFSETFROM:-0400
TZOFFSETTO:-0500
TZNAME:EST
DTSTART:20231105T060000
END:STANDARD
BEGIN:DAYLIGHT
TZOFFSETFROM:-0500
TZOFFSETTO:-0400
TZNAME:EDT
DTSTART:20240310T070000
END:DAYLIGHT
BEGIN:STANDARD
TZOFFSETFROM:-0400
TZOFFSETTO:-0500
TZNAME:EST
DTSTART:20241103T060000
END:STANDARD
BEGIN:DAYLIGHT
TZOFFSETFROM:-0500
TZOFFSETTO:-0400
TZNAME:EDT
DTSTART:20250309T070000
END:DAYLIGHT
BEGIN:STANDARD
TZOFFSETFROM:-0400
TZOFFSETTO:-0500
TZNAME:EST
DTSTART:20251102T060000
END:STANDARD
END:VTIMEZONE
BEGIN:VEVENT
DTSTART;TZID=America/New_York:20240723T130000
DTEND;TZID=America/New_York:20240723T150000
DTSTAMP:20260421T190114
CREATED:20240514T155738Z
LAST-MODIFIED:20250327T184339Z
UID:10000394-1721739600-1721746800@hispaniclatinogala.org
SUMMARY:"Taller de Fuerza Laboral
DESCRIPTION:APRENDERÁS SOBRE: \nDerechos laborales \nHerramientas para la búsqueda de trabajo \nBolsa de trabajo actualizada \nCreación de conexiones \nFecha:  Todos los martes de 1:00 PM – 3:00 PM \nSala: Centro Cultural Olma Echeverri
URL:https://hispaniclatinogala.org/evento/taller-de-fuerza-laboral/2024-07-23/
LOCATION:Oficinas de LAC\, 4938 Central Ave. Suite 101\, Charlotte\, NC\, 28205\, Estados Unidos
CATEGORIES:Educacional
ATTACH;FMTTYPE=image/jpeg:https://hispaniclatinogala.org/wp-content/uploads/2024/05/Image-3-e1736958480553.jpg
ORGANIZER;CN="EWC":MAILTO:info@mylac.org
END:VEVENT
BEGIN:VEVENT
DTSTART;TZID=America/New_York:20240725T123000
DTEND;TZID=America/New_York:20240725T153000
DTSTAMP:20260421T190114
CREATED:20240201T125653Z
LAST-MODIFIED:20240202T162829Z
UID:10000335-1721910600-1721921400@hispaniclatinogala.org
SUMMARY:ID Cominutario
DESCRIPTION:Regístrate y obtén tu ID comunitario en La Coalición \nEl ID comunitario es una tarjeta especialmente beneficiosa para aquellos que no poseen ningún tipo de identificación en este país. Emitida por LAC\, el ID comunitario es un privilegio exclusivo para nuestros miembros y está diseñado para facilitar y mejorar su participación en diversos aspectos de la vida cotidiana. \nConoce más de los beneficios que puedes disfrutar aquí \n\n¡Te animamos a solicitado tu ID comunitario\, te invitamos a registrarte enviando un correo electrónico a info@mylac.org o llamando al 704 5313848.\n\nEstamos aquí para ayudarte en el proceso y asegurarnos de que aproveches al máximo tu membresía en LAC.\n¡Aplica aquí para obtener el ID comunitario! \n12:30 PM a 3:30 pm en LAC Departamento IWC
URL:https://hispaniclatinogala.org/evento/id-cominutario-2/2024-07-25/
LOCATION:Oficinas de LAC\, 4938 Central Ave. Suite 101\, Charlotte\, NC\, 28205\, Estados Unidos
ATTACH;FMTTYPE=image/jpeg:https://hispaniclatinogala.org/wp-content/uploads/2024/02/MicrosoftTeams-image-19.jpg
ORGANIZER;CN="IWC":MAILTO:asanchez@mylac.org
END:VEVENT
BEGIN:VEVENT
DTSTART;VALUE=DATE:20240726
DTEND;VALUE=DATE:20240727
DTSTAMP:20260421T190114
CREATED:20240510T182941Z
LAST-MODIFIED:20240510T182941Z
UID:10000383-1721952000-1722038399@hispaniclatinogala.org
SUMMARY:¡Cuidar de tu salud mental es tan importante como cuidar de tu salud física!
DESCRIPTION:En la Latin American Coalition\, estamos comprometidos a apoyarte en tu bienestar integral. ¡No estás solo/a!
URL:https://hispaniclatinogala.org/evento/cuidar-de-tu-salud-mental-es-tan-importante-como-cuidar-de-tu-salud-fisica/
LOCATION:Oficinas de LAC\, 4938 Central Ave. Suite 101\, Charlotte\, NC\, 28205\, Estados Unidos
ATTACH;FMTTYPE=image/png:https://hispaniclatinogala.org/wp-content/uploads/2024/05/download_anonymous.png
ORGANIZER;CN="Latin American Coalition":MAILTO:info@mylac.org
END:VEVENT
BEGIN:VEVENT
DTSTART;TZID=America/New_York:20240727T160000
DTEND;TZID=America/New_York:20240727T210000
DTSTAMP:20260421T190114
CREATED:20240724T181103Z
LAST-MODIFIED:20240724T181103Z
UID:10001333-1722096000-1722114000@hispaniclatinogala.org
SUMMARY:INDEPENDENCE OF PERU
DESCRIPTION:¡Únete a nosotros para una vibrante celebración de la **Independencia del Perú** este sábado 27 de julio a las 4 PM en el Museo de Historia de Charlotte\, 3500 Shamrock Dr\, Charlotte\, NC 28215 \nDisfruta de música en vivo con Fuzion Latina Mix\, deliciosa comida peruana y un ambiente festivo mientras celebramos nuestro décimo año de este increíble evento. \n¡Entrada gratuita para todos! ¡No te pierdas esta emocionante experiencia cultural traída a ti por la Asociación Cultural Peruana de Charlotte! \nDetalles del Evento:\nFecha: Sábado\, 27 de julio Hora: 4 PM\nUbicación: Museo de Historia de Charlotte\, 3500 Shamrock Dr\, Charlotte\, NC 28215\nEntrada: Gratis ¡Ven y sé parte de esta celebración inolvidable!
URL:https://hispaniclatinogala.org/evento/independence-of-peru/
ATTACH;FMTTYPE=image/jpeg:https://hispaniclatinogala.org/wp-content/uploads/2024/07/Screenshot-2024-07-24-at-1.37.53 PM_anonymous.jpg
END:VEVENT
END:VCALENDAR