BEGIN:VCALENDAR
VERSION:2.0
PRODID:-//La Coalicion - ECPv6.15.20//NONSGML v1.0//EN
CALSCALE:GREGORIAN
METHOD:PUBLISH
X-ORIGINAL-URL:https://hispaniclatinogala.org
X-WR-CALDESC:Events for La Coalicion
REFRESH-INTERVAL;VALUE=DURATION:PT1H
X-Robots-Tag:noindex
X-PUBLISHED-TTL:PT1H
BEGIN:VTIMEZONE
TZID:America/New_York
BEGIN:DAYLIGHT
TZOFFSETFROM:-0500
TZOFFSETTO:-0400
TZNAME:EDT
DTSTART:20230312T070000
END:DAYLIGHT
BEGIN:STANDARD
TZOFFSETFROM:-0400
TZOFFSETTO:-0500
TZNAME:EST
DTSTART:20231105T060000
END:STANDARD
BEGIN:DAYLIGHT
TZOFFSETFROM:-0500
TZOFFSETTO:-0400
TZNAME:EDT
DTSTART:20240310T070000
END:DAYLIGHT
BEGIN:STANDARD
TZOFFSETFROM:-0400
TZOFFSETTO:-0500
TZNAME:EST
DTSTART:20241103T060000
END:STANDARD
BEGIN:DAYLIGHT
TZOFFSETFROM:-0500
TZOFFSETTO:-0400
TZNAME:EDT
DTSTART:20250309T070000
END:DAYLIGHT
BEGIN:STANDARD
TZOFFSETFROM:-0400
TZOFFSETTO:-0500
TZNAME:EST
DTSTART:20251102T060000
END:STANDARD
END:VTIMEZONE
BEGIN:VEVENT
DTSTART;TZID=America/New_York:20240728T120000
DTEND;TZID=America/New_York:20240728T203000
DTSTAMP:20260421T142151
CREATED:20240716T111533Z
LAST-MODIFIED:20240716T181540Z
UID:10001331-1722168000-1722198600@hispaniclatinogala.org
SUMMARY:¡Únete a nosotros para el 5to Festival Peruano de Charlotte! 
DESCRIPTION:Será un día lleno de música en vivo\, deliciosa comida peruana\, arte y diversión para toda la familia. Tendremos presentaciones especiales de Pedro Loli y Rosa Elvira Cartagena\, además de muchas otras sorpresas.\n¡No te lo pierdas!\nPara más información\, visita [este link](https://charlotteperuvianfestival.com).\nFecha: 28 de julio\nHora: 12 PM – 8:30 PM\nUbicación: Symphony Park\, 4400 Sharon Rd\, Charlotte\, NC 28211\nEstacionamiento gratis
URL:https://hispaniclatinogala.org/evento/unete-a-nosotros-para-el-5to-festival-peruano-de-charlotte/
ATTACH;FMTTYPE=image/jpeg:https://hispaniclatinogala.org/wp-content/uploads/2024/07/Media_anonymous.jpg
END:VEVENT
BEGIN:VEVENT
DTSTART;TZID=America/New_York:20240728T130000
DTEND;TZID=America/New_York:20240728T210000
DTSTAMP:20260421T142151
CREATED:20240724T181630Z
LAST-MODIFIED:20240724T181631Z
UID:10001334-1722171600-1722200400@hispaniclatinogala.org
SUMMARY:DÍA DE LOS PADRES
DESCRIPTION:¡Ven y celebra con nosotros el  Día de los Padres en Pineville Lake Park!\nEste domingo 28 de julio de 2024\, a partir de la 1:00 PM\, disfruta de una tarde llena de diversión y actividades para toda la familia.\nActividades Incluyen:\n– Mesas de Domino\n– Food Trucks\n– DJ El Niño + Karaoke\n– Pinta Caritas\n– Rifas\n– ¡Y mucho más! \nUbicación: Pineville Lake Park 1000 Johnston Drive Pineville\, NC 28134\nEntrada Gratuita\n– ¡Evento abierto al público! ¡No te pierdas esta oportunidad de pasar un día increíble celebrando a los papás con música\, comida y entretenimiento!
URL:https://hispaniclatinogala.org/evento/dia-de-los-padres/
CATEGORIES:Evento Cultural
ATTACH;FMTTYPE=image/jpeg:https://hispaniclatinogala.org/wp-content/uploads/2024/07/shared-image_anonymous.jpg
END:VEVENT
BEGIN:VEVENT
DTSTART;TZID=America/New_York:20240730T130000
DTEND;TZID=America/New_York:20240730T150000
DTSTAMP:20260421T142151
CREATED:20240514T155738Z
LAST-MODIFIED:20250327T184339Z
UID:10000395-1722344400-1722351600@hispaniclatinogala.org
SUMMARY:"Taller de Fuerza Laboral
DESCRIPTION:APRENDERÁS SOBRE: \nDerechos laborales \nHerramientas para la búsqueda de trabajo \nBolsa de trabajo actualizada \nCreación de conexiones \nFecha:  Todos los martes de 1:00 PM – 3:00 PM \nSala: Centro Cultural Olma Echeverri
URL:https://hispaniclatinogala.org/evento/taller-de-fuerza-laboral/2024-07-30/
LOCATION:Oficinas de LAC\, 4938 Central Ave. Suite 101\, Charlotte\, NC\, 28205\, Estados Unidos
CATEGORIES:Educacional
ATTACH;FMTTYPE=image/jpeg:https://hispaniclatinogala.org/wp-content/uploads/2024/05/Image-3-e1736958480553.jpg
ORGANIZER;CN="EWC":MAILTO:info@mylac.org
END:VEVENT
BEGIN:VEVENT
DTSTART;TZID=America/New_York:20240802T080000
DTEND;TZID=America/New_York:20240802T170000
DTSTAMP:20260421T142151
CREATED:20240803T003105Z
LAST-MODIFIED:20240803T003105Z
UID:10001339-1722585600-1722618000@hispaniclatinogala.org
SUMMARY:¡Únete a nuestro Taller de Fuerza Laboral!
DESCRIPTION:¿Estás buscando mejorar tus habilidades y oportunidades laborales?\nTe invitamos a asistir a nuestro “Taller de Fuerza Laboral” todos los martes de 1:00 p.m. a 3:00 p.m. en la Coalición Latinoamericana. \nAprenderás herramientas esenciales para destacar en el mercado laboral\, recibirás orientación profesional y mucho más. ¡No te pierdas esta oportunidad de crecimiento!  Dirección: 11611 N Community House Rd\, Charlotte\, NC 28277\nReserva tu cupo llamando al 704-531-3848.\n¡Te esperamos!
URL:https://hispaniclatinogala.org/evento/unete-a-nuestro-taller-de-fuerza-laboral/
LOCATION:Oficinas de LAC\, 4938 Central Ave. Suite 101\, Charlotte\, NC\, 28205\, Estados Unidos
ORGANIZER;CN="Latin American Coalition":MAILTO:info@mylac.org
END:VEVENT
BEGIN:VEVENT
DTSTART;TZID=America/New_York:20240803T120000
DTEND;TZID=America/New_York:20240803T210000
DTSTAMP:20260421T142151
CREATED:20240724T182219Z
LAST-MODIFIED:20240803T000527Z
UID:10001337-1722686400-1722718800@hispaniclatinogala.org
SUMMARY:Únete a la gran celebración en el 2do Festival y Encuentro de Chinelos
DESCRIPTION:¡Únete a la gran celebración en el 2do Festival y Encuentro de Chinelos! \nFecha: 3 y 4 de agosto \nLugar: Coalición Latinoamericana\, 4938 Central Ave\, Charlotte\, NC\, USA 28205 \n¡Disfruta de las últimas presentaciones en Estados Unidos de **La Banda de Tlayacapan**\, la banda más antigua de México! \nComparasas y vendedores\, ¡aún pueden registrarse! \nLlámanos ¡No te lo pierdas!
URL:https://hispaniclatinogala.org/evento/unete-a-la-gran-celebracion-en-el-2do-festival-y-encuentro-de-chinelos/2024-08-03/
CATEGORIES:Evento Cultural
ATTACH;FMTTYPE=image/jpeg:https://hispaniclatinogala.org/wp-content/uploads/2024/07/453746573_507887438301070_1868674165862322383_n.jpg
END:VEVENT
END:VCALENDAR