BEGIN:VCALENDAR
VERSION:2.0
PRODID:-//La Coalicion - ECPv6.15.20//NONSGML v1.0//EN
CALSCALE:GREGORIAN
METHOD:PUBLISH
X-ORIGINAL-URL:https://hispaniclatinogala.org
X-WR-CALDESC:Events for La Coalicion
REFRESH-INTERVAL;VALUE=DURATION:PT1H
X-Robots-Tag:noindex
X-PUBLISHED-TTL:PT1H
BEGIN:VTIMEZONE
TZID:America/New_York
BEGIN:DAYLIGHT
TZOFFSETFROM:-0500
TZOFFSETTO:-0400
TZNAME:EDT
DTSTART:20230312T070000
END:DAYLIGHT
BEGIN:STANDARD
TZOFFSETFROM:-0400
TZOFFSETTO:-0500
TZNAME:EST
DTSTART:20231105T060000
END:STANDARD
BEGIN:DAYLIGHT
TZOFFSETFROM:-0500
TZOFFSETTO:-0400
TZNAME:EDT
DTSTART:20240310T070000
END:DAYLIGHT
BEGIN:STANDARD
TZOFFSETFROM:-0400
TZOFFSETTO:-0500
TZNAME:EST
DTSTART:20241103T060000
END:STANDARD
BEGIN:DAYLIGHT
TZOFFSETFROM:-0500
TZOFFSETTO:-0400
TZNAME:EDT
DTSTART:20250309T070000
END:DAYLIGHT
BEGIN:STANDARD
TZOFFSETFROM:-0400
TZOFFSETTO:-0500
TZNAME:EST
DTSTART:20251102T060000
END:STANDARD
END:VTIMEZONE
BEGIN:VEVENT
DTSTART;TZID=America/New_York:20240820T053000
DTEND;TZID=America/New_York:20240820T190000
DTSTAMP:20260421T190432
CREATED:20240823T025046Z
LAST-MODIFIED:20240823T025046Z
UID:10001607-1724131800-1724180400@hispaniclatinogala.org
SUMMARY:Certificado en Marketing Digital y Comercio Electrónico
DESCRIPTION:Los temas que aprenderás: \n\nIntroducción a los fundamentos del marketing digital y el comercio electrónico.\nEl recorrido del cliente y el embudo de marketing.\nEstrategias de marketing digital y comercio electrónico.\nMetricas del éxito.\n\nModalidad\nHibrido \n\n5 semanas online asincrónico\nEntrega de certificados presencial 26 Septiembre
URL:https://hispaniclatinogala.org/evento/certificado-en-marketing-digital-y-comercio-electronico-2/
CATEGORIES:Educacional
ATTACH;FMTTYPE=image/jpeg:https://hispaniclatinogala.org/wp-content/uploads/2024/08/MARKETINGDIGITAL-EWC-08_20-FACEBOOK_anonymous.jpg
END:VEVENT
BEGIN:VEVENT
DTSTART;TZID=America/New_York:20240820T130000
DTEND;TZID=America/New_York:20240820T150000
DTSTAMP:20260421T190432
CREATED:20240514T155738Z
LAST-MODIFIED:20250327T184339Z
UID:10000398-1724158800-1724166000@hispaniclatinogala.org
SUMMARY:"Taller de Fuerza Laboral
DESCRIPTION:APRENDERÁS SOBRE: \nDerechos laborales \nHerramientas para la búsqueda de trabajo \nBolsa de trabajo actualizada \nCreación de conexiones \nFecha:  Todos los martes de 1:00 PM – 3:00 PM \nSala: Centro Cultural Olma Echeverri
URL:https://hispaniclatinogala.org/evento/taller-de-fuerza-laboral/2024-08-20/
LOCATION:Oficinas de LAC\, 4938 Central Ave. Suite 101\, Charlotte\, NC\, 28205\, Estados Unidos
CATEGORIES:Educacional
ATTACH;FMTTYPE=image/jpeg:https://hispaniclatinogala.org/wp-content/uploads/2024/05/Image-3-e1736958480553.jpg
ORGANIZER;CN="EWC":MAILTO:info@mylac.org
END:VEVENT
BEGIN:VEVENT
DTSTART;TZID=America/New_York:20240821T083000
DTEND;TZID=America/New_York:20240821T153000
DTSTAMP:20260421T190432
CREATED:20240516T162832Z
LAST-MODIFIED:20250327T184446Z
UID:10000709-1724229000-1724254200@hispaniclatinogala.org
SUMMARY:Obtenga vacunas gratis para sus hijo(s).
DESCRIPTION:Regístrese hoy para vacunar a sus hijos en nuestro\n\n Su hijo merece una vida sana y activa\, y vacunarse en Novant Health Community Care Cruiser es un gran primer paso! Ofrecemos vacunas a niños desde el nacimiento hasta los 81 años que no tienen seguro\, tienen Medicaid o son elegibles para Medicaid. Puede inscribirse para todas las vacunas que su hijo necesita\, y son gratuitas. \nCómo conseguir una cita de vacunación para su hijo\n 1. Llamar al 844-644-3578 (NHHELPU). \n.2 Envíe una copia del registro completo de vacunas de su hijo a CommunityCruiser@NovantHealth.org o al 704-351-1703 antes de la fecha de su cita. \nSeleccione uno de los siguientes métodos para enviar registros\n • Envíe una copia del registro completo de vacunas de su hijo a CommunityCruiser@NovantHealth.org • Envíe una copia por mensaje de texto al 704-351-1703 \n• Envíe a nuestro fax seguro al 704- 316 -9451 \n• El envío de esta información por adelantado reducirá su tiempo de espera. \nEsto es lo que puede esperar\n • Sus hijos necesitarán un padre o tutor legal con ellos. \n• Traiga una copia del historial de vacunación de su hijo a la cita. \n• Los niños pueden recibir las vacunas si no tienen seguro\, tienen Medicaid o son elegibles para Medicaid. \n¡Ahora es un buen momento para vacunar a sus hijos por completo y ayudarlos a vivir la vida activa que se merecen!
URL:https://hispaniclatinogala.org/evento/obtenga-vacunas-gratis-para-sus-hijos/2024-08-21/
ATTACH;FMTTYPE=application/pdf:https://hispaniclatinogala.org/wp-content/uploads/2024/05/VACUNAS-NOVANT-HEALTH-spanish-flyer-3.pdf
ORGANIZER;CN="IWC":MAILTO:asanchez@mylac.org
END:VEVENT
BEGIN:VEVENT
DTSTART;TZID=America/New_York:20240822T123000
DTEND;TZID=America/New_York:20240822T153000
DTSTAMP:20260421T190432
CREATED:20240201T125653Z
LAST-MODIFIED:20240202T162829Z
UID:10000337-1724329800-1724340600@hispaniclatinogala.org
SUMMARY:ID Cominutario
DESCRIPTION:Regístrate y obtén tu ID comunitario en La Coalición \nEl ID comunitario es una tarjeta especialmente beneficiosa para aquellos que no poseen ningún tipo de identificación en este país. Emitida por LAC\, el ID comunitario es un privilegio exclusivo para nuestros miembros y está diseñado para facilitar y mejorar su participación en diversos aspectos de la vida cotidiana. \nConoce más de los beneficios que puedes disfrutar aquí \n\n¡Te animamos a solicitado tu ID comunitario\, te invitamos a registrarte enviando un correo electrónico a info@mylac.org o llamando al 704 5313848.\n\nEstamos aquí para ayudarte en el proceso y asegurarnos de que aproveches al máximo tu membresía en LAC.\n¡Aplica aquí para obtener el ID comunitario! \n12:30 PM a 3:30 pm en LAC Departamento IWC
URL:https://hispaniclatinogala.org/evento/id-cominutario-2/2024-08-22/
LOCATION:Oficinas de LAC\, 4938 Central Ave. Suite 101\, Charlotte\, NC\, 28205\, Estados Unidos
ATTACH;FMTTYPE=image/jpeg:https://hispaniclatinogala.org/wp-content/uploads/2024/02/MicrosoftTeams-image-19.jpg
ORGANIZER;CN="IWC":MAILTO:asanchez@mylac.org
END:VEVENT
END:VCALENDAR