BEGIN:VCALENDAR
VERSION:2.0
PRODID:-//La Coalicion - ECPv6.15.20//NONSGML v1.0//EN
CALSCALE:GREGORIAN
METHOD:PUBLISH
X-ORIGINAL-URL:https://hispaniclatinogala.org
X-WR-CALDESC:Events for La Coalicion
REFRESH-INTERVAL;VALUE=DURATION:PT1H
X-Robots-Tag:noindex
X-PUBLISHED-TTL:PT1H
BEGIN:VTIMEZONE
TZID:America/New_York
BEGIN:DAYLIGHT
TZOFFSETFROM:-0500
TZOFFSETTO:-0400
TZNAME:EDT
DTSTART:20230312T070000
END:DAYLIGHT
BEGIN:STANDARD
TZOFFSETFROM:-0400
TZOFFSETTO:-0500
TZNAME:EST
DTSTART:20231105T060000
END:STANDARD
BEGIN:DAYLIGHT
TZOFFSETFROM:-0500
TZOFFSETTO:-0400
TZNAME:EDT
DTSTART:20240310T070000
END:DAYLIGHT
BEGIN:STANDARD
TZOFFSETFROM:-0400
TZOFFSETTO:-0500
TZNAME:EST
DTSTART:20241103T060000
END:STANDARD
BEGIN:DAYLIGHT
TZOFFSETFROM:-0500
TZOFFSETTO:-0400
TZNAME:EDT
DTSTART:20250309T070000
END:DAYLIGHT
BEGIN:STANDARD
TZOFFSETFROM:-0400
TZOFFSETTO:-0500
TZNAME:EST
DTSTART:20251102T060000
END:STANDARD
END:VTIMEZONE
BEGIN:VEVENT
DTSTART;VALUE=DATE:20240909
DTEND;VALUE=DATE:20240910
DTSTAMP:20260421T202454
CREATED:20240823T025539Z
LAST-MODIFIED:20240823T025714Z
UID:10001608-1725840000-1725926399@hispaniclatinogala.org
SUMMARY:Join our FALL INTERNSHIPS
DESCRIPTION:🌟 Join Our Internship Program! 🌟 \nLooking for hands-on experience and growth? Our semester-long internships offer you the chance to work on impactful projects and collaborate with a passionate team. Open to undergrad and grad students\, as well as recent grads! \nProgram Dates: September 9th – December 13th\nCommitment: 12 hours/week minimum\nBenefits: Networking\, workshops\, cultural celebrations\, community events (Unpaid)\nApplication Deadline: Sunday\, September 1st at 11:59 PM ET. Explore more about the Latin American Coalition in our brochures.
URL:https://hispaniclatinogala.org/evento/join-our-fall-internships/
ATTACH;FMTTYPE=image/jpeg:https://hispaniclatinogala.org/wp-content/uploads/2024/08/YEC-FALL-Interns_anonymous.jpg
ORGANIZER;CN="YEC":MAILTO:yec@mylac.org
END:VEVENT
BEGIN:VEVENT
DTSTART;TZID=America/New_York:20240910T130000
DTEND;TZID=America/New_York:20240910T150000
DTSTAMP:20260421T202454
CREATED:20240514T155738Z
LAST-MODIFIED:20250327T184339Z
UID:10000401-1725973200-1725980400@hispaniclatinogala.org
SUMMARY:"Taller de Fuerza Laboral
DESCRIPTION:APRENDERÁS SOBRE: \nDerechos laborales \nHerramientas para la búsqueda de trabajo \nBolsa de trabajo actualizada \nCreación de conexiones \nFecha:  Todos los martes de 1:00 PM – 3:00 PM \nSala: Centro Cultural Olma Echeverri
URL:https://hispaniclatinogala.org/evento/taller-de-fuerza-laboral/2024-09-10/
LOCATION:Oficinas de LAC\, 4938 Central Ave. Suite 101\, Charlotte\, NC\, 28205\, Estados Unidos
CATEGORIES:Educacional
ATTACH;FMTTYPE=image/jpeg:https://hispaniclatinogala.org/wp-content/uploads/2024/05/Image-3-e1736958480553.jpg
ORGANIZER;CN="EWC":MAILTO:info@mylac.org
END:VEVENT
BEGIN:VEVENT
DTSTART;TZID=America/New_York:20240910T180000
DTEND;TZID=America/New_York:20240910T220000
DTSTAMP:20260421T202454
CREATED:20240903T162233Z
LAST-MODIFIED:20240903T162233Z
UID:10001613-1725991200-1726005600@hispaniclatinogala.org
SUMMARY:TE INVITAN A LA SERIE DE TALLERES SOBRE FINANZAS PERSONALES (Reducción de deudas)
DESCRIPTION:Aprende temas de importancia para tu bienestar financiero con esta serie de talleres liderados por consejeros certificados en las instalaciones de La Coalición. Estos son los temas y modos de asistencia: \nCrédito en EEUU (virtual\, 8/29) \nPresupuesto y herramientas (persona\, 9/2) \nCumpliendo sueños (virtual\, 9/5) \nReducción de deudas (persona\, 9/10) \nWays to contact the organizers: Email: ewcassociate2@mylac.org Phone number: (704) 941-2557 (Text)
URL:https://hispaniclatinogala.org/evento/te-invitan-a-la-serie-de-talleres-sobre-finanzas-personales-reduccion-de-deudas/
LOCATION:Oficinas de LAC\, 4938 Central Ave. Suite 101\, Charlotte\, NC\, 28205\, Estados Unidos
ATTACH;FMTTYPE=image/jpeg:https://hispaniclatinogala.org/wp-content/uploads/2024/09/Add-a-subheading-2_anonymous.jpg
ORGANIZER;CN="EWC":MAILTO:info@mylac.org
END:VEVENT
BEGIN:VEVENT
DTSTART;TZID=America/New_York:20240912T123000
DTEND;TZID=America/New_York:20240912T153000
DTSTAMP:20260421T202454
CREATED:20240201T125653Z
LAST-MODIFIED:20240202T162829Z
UID:10000338-1726144200-1726155000@hispaniclatinogala.org
SUMMARY:ID Cominutario
DESCRIPTION:Regístrate y obtén tu ID comunitario en La Coalición \nEl ID comunitario es una tarjeta especialmente beneficiosa para aquellos que no poseen ningún tipo de identificación en este país. Emitida por LAC\, el ID comunitario es un privilegio exclusivo para nuestros miembros y está diseñado para facilitar y mejorar su participación en diversos aspectos de la vida cotidiana. \nConoce más de los beneficios que puedes disfrutar aquí \n\n¡Te animamos a solicitado tu ID comunitario\, te invitamos a registrarte enviando un correo electrónico a info@mylac.org o llamando al 704 5313848.\n\nEstamos aquí para ayudarte en el proceso y asegurarnos de que aproveches al máximo tu membresía en LAC.\n¡Aplica aquí para obtener el ID comunitario! \n12:30 PM a 3:30 pm en LAC Departamento IWC
URL:https://hispaniclatinogala.org/evento/id-cominutario-2/2024-09-12/
LOCATION:Oficinas de LAC\, 4938 Central Ave. Suite 101\, Charlotte\, NC\, 28205\, Estados Unidos
ATTACH;FMTTYPE=image/jpeg:https://hispaniclatinogala.org/wp-content/uploads/2024/02/MicrosoftTeams-image-19.jpg
ORGANIZER;CN="IWC":MAILTO:asanchez@mylac.org
END:VEVENT
BEGIN:VEVENT
DTSTART;TZID=America/New_York:20240913T180000
DTEND;TZID=America/New_York:20240913T193000
DTSTAMP:20260421T202454
CREATED:20240906T132810Z
LAST-MODIFIED:20240906T132811Z
UID:10001614-1726250400-1726255800@hispaniclatinogala.org
SUMMARY:
DESCRIPTION:¡Únete al programa de mentoría “GANAS”! \nGANAS es más que solo mentoría; es un espacio donde los jóvenes se conectan\, aprenden y crecen\, descubriendo sus fortalezas.\nOfreceremos talleres familiares para empoderar tanto a estudiantes como a sus familias\, ¡una fantástica oportunidad de trabajar en equipo! \nSesión informativa: 13 de septiembre\nHora: 6:00pm – 7:30pm\nLugar: 4938 Central Ave\, Charlotte\, NC\, 28205\nEdades: Estudiantes de 13-19 años\n¡No te pierdas esta oportunidad de formar parte de esta experiencia y despertar las GANAS en tu estudiante!
URL:https://hispaniclatinogala.org/evento/22300/
LOCATION:Oficinas de LAC\, 4938 Central Ave. Suite 101\, Charlotte\, NC\, 28205\, Estados Unidos
CATEGORIES:Clase
ATTACH;FMTTYPE=image/jpeg:https://hispaniclatinogala.org/wp-content/uploads/2024/09/GANAS-FAMILY-9.5.24-SPAN-3_anonymous.jpg
ORGANIZER;CN="YEC":MAILTO:yec@mylac.org
END:VEVENT
END:VCALENDAR