BEGIN:VCALENDAR
VERSION:2.0
PRODID:-//La Coalicion - ECPv6.15.20//NONSGML v1.0//EN
CALSCALE:GREGORIAN
METHOD:PUBLISH
X-ORIGINAL-URL:https://hispaniclatinogala.org
X-WR-CALDESC:Events for La Coalicion
REFRESH-INTERVAL;VALUE=DURATION:PT1H
X-Robots-Tag:noindex
X-PUBLISHED-TTL:PT1H
BEGIN:VTIMEZONE
TZID:America/New_York
BEGIN:DAYLIGHT
TZOFFSETFROM:-0500
TZOFFSETTO:-0400
TZNAME:EDT
DTSTART:20230312T070000
END:DAYLIGHT
BEGIN:STANDARD
TZOFFSETFROM:-0400
TZOFFSETTO:-0500
TZNAME:EST
DTSTART:20231105T060000
END:STANDARD
BEGIN:DAYLIGHT
TZOFFSETFROM:-0500
TZOFFSETTO:-0400
TZNAME:EDT
DTSTART:20240310T070000
END:DAYLIGHT
BEGIN:STANDARD
TZOFFSETFROM:-0400
TZOFFSETTO:-0500
TZNAME:EST
DTSTART:20241103T060000
END:STANDARD
BEGIN:DAYLIGHT
TZOFFSETFROM:-0500
TZOFFSETTO:-0400
TZNAME:EDT
DTSTART:20250309T070000
END:DAYLIGHT
BEGIN:STANDARD
TZOFFSETFROM:-0400
TZOFFSETTO:-0500
TZNAME:EST
DTSTART:20251102T060000
END:STANDARD
END:VTIMEZONE
BEGIN:VEVENT
DTSTART;TZID=America/New_York:20241105T130000
DTEND;TZID=America/New_York:20241105T150000
DTSTAMP:20260422T024102
CREATED:20240514T155738Z
LAST-MODIFIED:20250327T184339Z
UID:10000409-1730811600-1730818800@hispaniclatinogala.org
SUMMARY:"Taller de Fuerza Laboral
DESCRIPTION:APRENDERÁS SOBRE: \nDerechos laborales \nHerramientas para la búsqueda de trabajo \nBolsa de trabajo actualizada \nCreación de conexiones \nFecha:  Todos los martes de 1:00 PM – 3:00 PM \nSala: Centro Cultural Olma Echeverri
URL:https://hispaniclatinogala.org/evento/taller-de-fuerza-laboral/2024-11-05/
LOCATION:Oficinas de LAC\, 4938 Central Ave. Suite 101\, Charlotte\, NC\, 28205\, Estados Unidos
CATEGORIES:Educacional
ATTACH;FMTTYPE=image/jpeg:https://hispaniclatinogala.org/wp-content/uploads/2024/05/Image-3-e1736958480553.jpg
ORGANIZER;CN="EWC":MAILTO:info@mylac.org
END:VEVENT
BEGIN:VEVENT
DTSTART;TZID=America/New_York:20241109T100000
DTEND;TZID=America/New_York:20241109T140000
DTSTAMP:20260422T024102
CREATED:20241019T191405Z
LAST-MODIFIED:20241019T191405Z
UID:10001620-1731146400-1731160800@hispaniclatinogala.org
SUMMARY:EL DIA DEL CONOCIMIENTO FINANCIERO HISPANO
DESCRIPTION:Durante JA Finance Park®\, losestudiantes explorarán carreras ygestiones financiera a través deactividades prácticas y juegos detrabajo en equipo. Losestudiantes interactuarán conotros estudiantes y jugaránjuegos mientras se preparan parapara ser adultos y aprenderconceptos claves comoresolución de problemas\, gestiónempresarial\, presupuestos ¡y más! \nAlmuerzo y Cuidado Infantil \nAbrimos las puertas a todaslas families para que se unana nosotros en este increibledia de JA Parque Financiero.Se brindara almuerzo ycuidado infantil. \nGRADOS: 7-12\nCUANDO: SÁBADO 9 DE NOVEMBRE\, 2024\nHORARIO: 10AM – 2PM\nCOSTO: GRATIS\nLUGAR: 1701 N GRAHAM ST #100\, CHARLOTTE\, NC 28206 ¡INSCRIPCIONES ABIERTAS!
URL:https://hispaniclatinogala.org/evento/el-dia-del-conocimiento-financiero-hispano/
CATEGORIES:Clase,Educacional
ATTACH;FMTTYPE=application/pdf:https://hispaniclatinogala.org/wp-content/uploads/2024/10/11-9-24-Spanish-Fin-Lit-Day-Flyer-Updated-10.9.24-2-1.pdf
END:VEVENT
END:VCALENDAR