BEGIN:VCALENDAR
VERSION:2.0
PRODID:-//La Coalicion - ECPv6.15.20//NONSGML v1.0//EN
CALSCALE:GREGORIAN
METHOD:PUBLISH
X-WR-CALNAME:La Coalicion
X-ORIGINAL-URL:https://hispaniclatinogala.org
X-WR-CALDESC:Events for La Coalicion
REFRESH-INTERVAL;VALUE=DURATION:PT1H
X-Robots-Tag:noindex
X-PUBLISHED-TTL:PT1H
BEGIN:VTIMEZONE
TZID:America/New_York
BEGIN:DAYLIGHT
TZOFFSETFROM:-0500
TZOFFSETTO:-0400
TZNAME:EDT
DTSTART:20240310T070000
END:DAYLIGHT
BEGIN:STANDARD
TZOFFSETFROM:-0400
TZOFFSETTO:-0500
TZNAME:EST
DTSTART:20241103T060000
END:STANDARD
BEGIN:DAYLIGHT
TZOFFSETFROM:-0500
TZOFFSETTO:-0400
TZNAME:EDT
DTSTART:20250309T070000
END:DAYLIGHT
BEGIN:STANDARD
TZOFFSETFROM:-0400
TZOFFSETTO:-0500
TZNAME:EST
DTSTART:20251102T060000
END:STANDARD
BEGIN:DAYLIGHT
TZOFFSETFROM:-0500
TZOFFSETTO:-0400
TZNAME:EDT
DTSTART:20260308T070000
END:DAYLIGHT
BEGIN:STANDARD
TZOFFSETFROM:-0400
TZOFFSETTO:-0500
TZNAME:EST
DTSTART:20261101T060000
END:STANDARD
END:VTIMEZONE
BEGIN:VEVENT
DTSTART;TZID=America/New_York:20250114T130000
DTEND;TZID=America/New_York:20250114T150000
DTSTAMP:20260422T040859
CREATED:20240514T155738Z
LAST-MODIFIED:20250327T184339Z
UID:10000419-1736859600-1736866800@hispaniclatinogala.org
SUMMARY:"Taller de Fuerza Laboral
DESCRIPTION:APRENDERÁS SOBRE: \nDerechos laborales \nHerramientas para la búsqueda de trabajo \nBolsa de trabajo actualizada \nCreación de conexiones \nFecha:  Todos los martes de 1:00 PM – 3:00 PM \nSala: Centro Cultural Olma Echeverri
URL:https://hispaniclatinogala.org/evento/taller-de-fuerza-laboral/2025-01-14/
LOCATION:Oficinas de LAC\, 4938 Central Ave. Suite 101\, Charlotte\, NC\, 28205\, Estados Unidos
CATEGORIES:Educacional
ATTACH;FMTTYPE=image/jpeg:https://hispaniclatinogala.org/wp-content/uploads/2024/05/Image-3-e1736958480553.jpg
ORGANIZER;CN="EWC":MAILTO:info@mylac.org
END:VEVENT
BEGIN:VEVENT
DTSTART;TZID=America/New_York:20250115T083000
DTEND;TZID=America/New_York:20250115T153000
DTSTAMP:20260422T040859
CREATED:20240516T162832Z
LAST-MODIFIED:20250327T184446Z
UID:10000714-1736929800-1736955000@hispaniclatinogala.org
SUMMARY:Obtenga vacunas gratis para sus hijo(s).
DESCRIPTION:Regístrese hoy para vacunar a sus hijos en nuestro\n\n Su hijo merece una vida sana y activa\, y vacunarse en Novant Health Community Care Cruiser es un gran primer paso! Ofrecemos vacunas a niños desde el nacimiento hasta los 81 años que no tienen seguro\, tienen Medicaid o son elegibles para Medicaid. Puede inscribirse para todas las vacunas que su hijo necesita\, y son gratuitas. \nCómo conseguir una cita de vacunación para su hijo\n 1. Llamar al 844-644-3578 (NHHELPU). \n.2 Envíe una copia del registro completo de vacunas de su hijo a CommunityCruiser@NovantHealth.org o al 704-351-1703 antes de la fecha de su cita. \nSeleccione uno de los siguientes métodos para enviar registros\n • Envíe una copia del registro completo de vacunas de su hijo a CommunityCruiser@NovantHealth.org • Envíe una copia por mensaje de texto al 704-351-1703 \n• Envíe a nuestro fax seguro al 704- 316 -9451 \n• El envío de esta información por adelantado reducirá su tiempo de espera. \nEsto es lo que puede esperar\n • Sus hijos necesitarán un padre o tutor legal con ellos. \n• Traiga una copia del historial de vacunación de su hijo a la cita. \n• Los niños pueden recibir las vacunas si no tienen seguro\, tienen Medicaid o son elegibles para Medicaid. \n¡Ahora es un buen momento para vacunar a sus hijos por completo y ayudarlos a vivir la vida activa que se merecen!
URL:https://hispaniclatinogala.org/evento/obtenga-vacunas-gratis-para-sus-hijos/2025-01-15/
ATTACH;FMTTYPE=application/pdf:https://hispaniclatinogala.org/wp-content/uploads/2024/05/VACUNAS-NOVANT-HEALTH-spanish-flyer-3.pdf
ORGANIZER;CN="IWC":MAILTO:asanchez@mylac.org
END:VEVENT
BEGIN:VEVENT
DTSTART;TZID=America/New_York:20250116T123000
DTEND;TZID=America/New_York:20250116T140000
DTSTAMP:20260422T040859
CREATED:20250115T162352Z
LAST-MODIFIED:20250115T162352Z
UID:10003719-1737030600-1737036000@hispaniclatinogala.org
SUMMARY:JORNADA DE ID COMUNITARIO
DESCRIPTION:REQUISITOS: \n\nUna identificación gubernamental de su país con fotografía (pasaporte\, cédula\, licencia de conducir vigente o vencida).\nParticipar en el taller “Conozca sus derechos”\nUn recibo de servicios que muestre su dirección actual\, a nombre de la persona que está solicitando el ID Comunitario (luz\, agua\,\nEl ID es un beneficio de la membresía anual de la \nJueves Enero 16\, 2025- 12:30 PM\nRegistro llamando al: 704-531-3848\nCosto: $40\nLa Coalición Latinoamericana 4938 Central Av. Charlotte NC.
URL:https://hispaniclatinogala.org/evento/jornada-de-id-comunitario-2/
CATEGORIES:Evento Cultural
ATTACH;FMTTYPE=image/jpeg:https://hispaniclatinogala.org/wp-content/uploads/2025/01/ID-COM-Enero-16-2025_anonymous.jpg
ORGANIZER;CN="Latin American Coalition":MAILTO:info@mylac.org
END:VEVENT
END:VCALENDAR